BEGIN:VCALENDAR
VERSION:2.0
PRODID:-//Landfrauen St. Jürgen - ECPv6.0.5//NONSGML v1.0//EN
CALSCALE:GREGORIAN
METHOD:PUBLISH
X-WR-CALNAME:Landfrauen St. Jürgen
X-ORIGINAL-URL:https://www.landfrauen-stjuergen.de
X-WR-CALDESC:Veranstaltungen für Landfrauen St. Jürgen
REFRESH-INTERVAL;VALUE=DURATION:PT1H
X-Robots-Tag:noindex
X-PUBLISHED-TTL:PT1H
BEGIN:VTIMEZONE
TZID:Europe/Berlin
BEGIN:DAYLIGHT
TZOFFSETFROM:+0100
TZOFFSETTO:+0200
TZNAME:CEST
DTSTART:20260329T010000
END:DAYLIGHT
BEGIN:STANDARD
TZOFFSETFROM:+0200
TZOFFSETTO:+0100
TZNAME:CET
DTSTART:20261025T010000
END:STANDARD
END:VTIMEZONE
BEGIN:VEVENT
DTSTART;TZID=Europe/Berlin:20260115T190000
DTEND;TZID=Europe/Berlin:20260115T220000
DTSTAMP:20260419T150830
CREATED:20251219T081930Z
LAST-MODIFIED:20251219T081930Z
UID:4907-1768503600-1768514400@www.landfrauen-stjuergen.de
SUMMARY:15.01.2026   J I L - Neujahrskegeln
DESCRIPTION:Den Auftakt für 2026 machen diesmal die jungen LandFrauen\, die J I L – Gruppe freut sich auf das “Neujahrskegeln“ im “Grasberger Hof“. Mit viel Spaß und den richtigen Getränken kann das nur gut werden. Kosten für die Kegelbahn € 8\,- \nAnmeldungen bis zum 08.01.26 bei Doreen Lindemann 0174 4169523 gerne auch per Whats App
URL:https://www.landfrauen-stjuergen.de/event/15-01-2026-j-i-l-neujahrskegeln/
LOCATION:Grasberger Hof\, Speckmannstr. 58\, Grasberg\, 28879
END:VEVENT
BEGIN:VEVENT
DTSTART;TZID=Europe/Berlin:20260121T180500
DTEND;TZID=Europe/Berlin:20260121T193000
DTSTAMP:20260419T150830
CREATED:20251219T082839Z
LAST-MODIFIED:20251219T082839Z
UID:4910-1769018700-1769023800@www.landfrauen-stjuergen.de
SUMMARY:21.01.2026   18:05 Uhr - Konzert "Bremer Philharmoniker"
DESCRIPTION:Das 18:05 Konzert im großen Saal der “Glocke“\, ist etwas ganz Besonderes. Die Bremer Philharmoniker unter der Leitung von Aurel Dawidiuk verwöhnen uns mit  »Polka Beats und Walzer Vibes« \nJohann Strauß\, Sohn: Walzer\, Polkas und Märsche \nJohannes Brahms: Ungarische Tänze \nKosten € 22\,- \nAnmeldungen (Warteliste) bei Gisela Weiland 04298 31325
URL:https://www.landfrauen-stjuergen.de/event/21-01-2026-1805-uhr-konzert-bremer-philharmoniker/
END:VEVENT
BEGIN:VEVENT
DTSTART;TZID=Europe/Berlin:20260127T190000
DTEND;TZID=Europe/Berlin:20260127T213000
DTSTAMP:20260419T150830
CREATED:20251219T084007Z
LAST-MODIFIED:20251219T084128Z
UID:4912-1769540400-1769549400@www.landfrauen-stjuergen.de
SUMMARY:27.01.2026   Einfach mal spielen!
DESCRIPTION:Am letzten Dienstag im Monat treffen wir uns im Obergeschoss der Sporthalle in Frankenburg. Hier findet man immer nette Spielpartner für Brettspiele oder Kartenspiele. Eigene Spiele dürfen gerne mitgebracht werden\, wir probieren auch mal etwas Neues aus. \nAnmeldungen bei Anke Kampe 04298 41540 \n 
URL:https://www.landfrauen-stjuergen.de/event/27-01-2026-einfach-mal-spielen/
END:VEVENT
END:VCALENDAR