BEGIN:VCALENDAR
VERSION:2.0
PRODID:-//Landfrauen St. Jürgen - ECPv6.0.5//NONSGML v1.0//EN
CALSCALE:GREGORIAN
METHOD:PUBLISH
X-WR-CALNAME:Landfrauen St. Jürgen
X-ORIGINAL-URL:https://www.landfrauen-stjuergen.de
X-WR-CALDESC:Veranstaltungen für Landfrauen St. Jürgen
REFRESH-INTERVAL;VALUE=DURATION:PT1H
X-Robots-Tag:noindex
X-PUBLISHED-TTL:PT1H
BEGIN:VTIMEZONE
TZID:Europe/Berlin
BEGIN:DAYLIGHT
TZOFFSETFROM:+0100
TZOFFSETTO:+0200
TZNAME:CEST
DTSTART:20250330T010000
END:DAYLIGHT
BEGIN:STANDARD
TZOFFSETFROM:+0200
TZOFFSETTO:+0100
TZNAME:CET
DTSTART:20251026T010000
END:STANDARD
END:VTIMEZONE
BEGIN:VEVENT
DTSTART;TZID=Europe/Berlin:20251006T180000
DTEND;TZID=Europe/Berlin:20251006T213000
DTSTAMP:20260419T192641
CREATED:20250916T155213Z
LAST-MODIFIED:20250916T163055Z
UID:4723-1759773600-1759786200@www.landfrauen-stjuergen.de
SUMMARY:06.10.25 Kreativabend:     Mit Raysin gestalten
DESCRIPTION:Wir gestalten mit Raysin\, einem feinen\, porzellanartigen Material. Einige von euch haben sich bereits nach der Vorankündigung angemeldet\, aber ein paar Plätze sind noch frei. Treffpunkt ist das Küsterschulhaus bei der Kirche St. Jürgen. Kosten für Mitglieder € 14\,- (incl. 1 kg Material) Gäste € 17\,-                  jedes weitere Kilo € 7\,- \nAnmeldungen bis zum 29.09. bei Anke Pientka- Otten 04298 41181
URL:https://www.landfrauen-stjuergen.de/event/06-10-25-kreativabend-mit-raysin-gestalten/
LOCATION:Kirche St. Jürgen\, St. Jürgen 1\, Lilienthal\, 28865
END:VEVENT
BEGIN:VEVENT
DTSTART;TZID=Europe/Berlin:20251007T183000
DTEND;TZID=Europe/Berlin:20251007T203000
DTSTAMP:20260419T192641
CREATED:20250916T163614Z
LAST-MODIFIED:20250916T164313Z
UID:4741-1759861800-1759869000@www.landfrauen-stjuergen.de
SUMMARY:07.10.25 J I L - Gut abgesichert!
DESCRIPTION:Ist man wirklich gut abgesichert?    Die jungen LandFrauen wollen es wissen.      Organisiert von der  J I L – Gruppe referiert Sonja Otten \nzu diesen wichtigen Themen:  Notfallordner – Patientenverfügung – Vorsorgevollmacht \num 18:30 Uhr in der Gaststätte Rohdenburg\, Trupermoor \nAnmeldung bis zum 23.09.bei Doreen Lindemann 0174 4169523
URL:https://www.landfrauen-stjuergen.de/event/07-10-25-gut-abgesichert/
LOCATION:Rohdenburgs Gaststätte\, Trupermoorer Landstr.\, Lilienthal\, 28865
END:VEVENT
BEGIN:VEVENT
DTSTART;TZID=Europe/Berlin:20251014T190000
DTEND;TZID=Europe/Berlin:20251014T213000
DTSTAMP:20260419T192641
CREATED:20250916T155918Z
LAST-MODIFIED:20250916T155918Z
UID:4725-1760468400-1760477400@www.landfrauen-stjuergen.de
SUMMARY:14.10.25 Vortrag:   Konfliktfrei leben und arbeiten auf dem Hof
DESCRIPTION:Ein spannendes Thema für Mehrgenerationen unter einem Dach\, nicht nur in der Landwirtschaft. Referentin:   Wiebke Müller \nTreffpunkt um 19:00 Uhr (zum Essen) im “ Bocadillo“\, OHZ \nDer Vortrag beginnt um 20:00 Uhr \nAnmeldungen bei Helga Wattenberg Tel. 04796 204
URL:https://www.landfrauen-stjuergen.de/event/14-10-25-vortrag-konfliktfrei-leben-und-arbeiten-auf-dem-hof/
END:VEVENT
BEGIN:VEVENT
DTSTART;TZID=Europe/Berlin:20251017T180000
DTEND;TZID=Europe/Berlin:20251017T213000
DTSTAMP:20260419T192641
CREATED:20250916T160619Z
LAST-MODIFIED:20250916T160619Z
UID:4727-1760724000-1760736600@www.landfrauen-stjuergen.de
SUMMARY:17.10.25 "Essen ist fertig!" Familienküche leicht(er) gemacht
DESCRIPTION:Im Familienalltag ist es manchmal nicht einfach\, allen Bedürfnissen und Wünschen gerecht zu werden\, und das bei einem stressigen Tagesablauf. Im Vortrag geht es rund ums Essen für alle. Gesunde Ernährung: Was ist das eigentlich? „Was Hänschen nicht lernt …“ – Ernährungsgewohnheiten unter der Lupe und gesundes Essen lernen. Zeit sparen und Nerven schonen: Planung\, Einkauf\, alltagstaugliche\, kreative und gesunde Küche (mit Rezeptteil). \nDazu werden Getränke und Snacks gereicht. Kosten für Mitglieder € 10\,-/ Gäste € 13\,- \nAnmeldungen bis zum 10.10. bei Heike Michels 04298 41166
URL:https://www.landfrauen-stjuergen.de/event/17-10-25-essen-ist-fertig-familienkueche-leichter-gemacht/
LOCATION:Freiwilligenagentur\, Konventshof 4\, Lilienthal\, 28865
END:VEVENT
BEGIN:VEVENT
DTSTART;TZID=Europe/Berlin:20251021T180000
DTEND;TZID=Europe/Berlin:20251021T213000
DTSTAMP:20260419T192641
CREATED:20250916T161235Z
LAST-MODIFIED:20251006T073956Z
UID:4729-1761069600-1761082200@www.landfrauen-stjuergen.de
SUMMARY:21.10.25 Kreativabend: Mit Raysin gestalten
DESCRIPTION:Am 21. Oktober gestalten wir mit Raysin\, einem feinen\, porzellanartigen Material. Ein paar Plätze sind noch frei. Treffpunkt ist das Küsterschulhaus bei der Kirche St. Jürgen. Kosten für Mitglieder € 14\,- (incl. 1 kg Material) Gäste € 17\,-      jedes weitere Kilo € 7\,- \nAnmeldungen bis zum 14.10. bei Anke Pientka- Otten 04298 41181
URL:https://www.landfrauen-stjuergen.de/event/21-10-25-kreativabend-mit-raysin-gestalten/
LOCATION:Kirche St. Jürgen\, St. Jürgen 1\, Lilienthal\, 28865
END:VEVENT
BEGIN:VEVENT
DTSTART;TZID=Europe/Berlin:20251024T183000
DTEND;TZID=Europe/Berlin:20251024T210000
DTSTAMP:20260419T192641
CREATED:20250916T162032Z
LAST-MODIFIED:20250916T162032Z
UID:4731-1761330600-1761339600@www.landfrauen-stjuergen.de
SUMMARY:24.10.25 Beisammensein am Feuerkorb
DESCRIPTION:Die Ortsgruppe “Trupe“ möchte zu einem Beisammensein am Feuerkorb einladen. Gerne auch mit euren Partnern. Am 24.10. geht es zum DGH Heidberg (Alte Reihe 72 in Lilienthal). Freut euch auf einen netten Abend bei Glühwein\, alkoholfreien Punsch und lecker Wurst. Kosten € 8\,- \nAnmeldungen bis zum 15.10. bei Marlies Schomacker 04298 31571 oder 0160 96892671 gerne per Whats App
URL:https://www.landfrauen-stjuergen.de/event/24-10-25-beisammensein-am-feuerkorb/
LOCATION:DGH Heidberg\, Alte Reihe 72\, Lilienthal\, 28865
END:VEVENT
END:VCALENDAR