BEGIN:VCALENDAR
VERSION:2.0
PRODID:-//Landfrauen St. Jürgen - ECPv6.0.5//NONSGML v1.0//EN
CALSCALE:GREGORIAN
METHOD:PUBLISH
X-WR-CALNAME:Landfrauen St. Jürgen
X-ORIGINAL-URL:https://www.landfrauen-stjuergen.de
X-WR-CALDESC:Veranstaltungen für Landfrauen St. Jürgen
REFRESH-INTERVAL;VALUE=DURATION:PT1H
X-Robots-Tag:noindex
X-PUBLISHED-TTL:PT1H
BEGIN:VTIMEZONE
TZID:Europe/Berlin
BEGIN:DAYLIGHT
TZOFFSETFROM:+0100
TZOFFSETTO:+0200
TZNAME:CEST
DTSTART:20250330T010000
END:DAYLIGHT
BEGIN:STANDARD
TZOFFSETFROM:+0200
TZOFFSETTO:+0100
TZNAME:CET
DTSTART:20251026T010000
END:STANDARD
END:VTIMEZONE
BEGIN:VEVENT
DTSTART;VALUE=DATE:20250905
DTEND;VALUE=DATE:20250906
DTSTAMP:20260419T204441
CREATED:20250713T163652Z
LAST-MODIFIED:20250713T163652Z
UID:4597-1757030400-1757116799@www.landfrauen-stjuergen.de
SUMMARY:05.09.25   Besichtigung einer Holzmühle und Rundgang auf einer Pilzfarm
DESCRIPTION:Auf diesen Tagesausflug in einem bequemen Reisebus könnt ihr euch jetzt schon freuen. Wir starten um 7:30 Uhr am Falkenberger Kreisel. Zuerst geht es zur “Holzmühle Westerkamp“ in Visbek. Dieser moderne Betrieb mit innovativen Produkten wie Holzmehl\, Holzfasern\, Holzgranulaten und Rezepturen in der Holzmehlverarbeitung\, ist in der ganzen Welt gefragt. Eine umfangreiche Führung haben wir gebucht. In der Kantine bekommen wir im Anschluss ein Mittagessen (wer vegetarisch essen möchte\, bitte Info an Herma). \nDann geht es weiter nach Goldenstedt auf eine Bio- Pilzfarm. Auch hier erhalten wir eine Führung. \nIm Heimathaus ist noch eine Stärkung für uns vorbereitet\, Kaffee\, Kuchen und etwas Deftiges. \nZurück in Lilienthal sind wir ca. um 19:45 Uhr. Die Kosten incl. Busfahrt\, Führungen\, Mittag und Kaffeetafel € 64\,-/ Person. \nBitte auf das LandFrauenkonto überweisen \nLandFrauen St. Jürgen:    Volksbank Osterholz    IBAN: DE71 2916 2394 0723 2284 00 \nAnmeldungen bis zum 20.07. bei Herma Michaelis 0162 3513327 gerne per Whats App oder ab 16:00 Uhr 04298 909911
URL:https://www.landfrauen-stjuergen.de/event/05-09-25-besichtigung-einer-holzmuehle-und-rundgang-auf-einer-pilzfarm/
END:VEVENT
BEGIN:VEVENT
DTSTART;TZID=Europe/Berlin:20250906T140000
DTEND;TZID=Europe/Berlin:20250906T210000
DTSTAMP:20260419T204441
CREATED:20250830T132438Z
LAST-MODIFIED:20250830T132438Z
UID:4631-1757167200-1757192400@www.landfrauen-stjuergen.de
SUMMARY:06.09.25 J I L - Wanderung durch Worpswede
DESCRIPTION:Für die Wanderung durch das schöne Worpswede treffen sich die jungen LandFrauen um 14:00 Uhr auf dem großen Parkplatz\, an der Bergstraße \nEs werden ca. 15 Kilometer im gemäßigtem Tempo. Bitte an entsprechende Kleidung und etwas zu trinken denken. Ab 18:00 Uhr Einkehr im Restaurant “Berg und Tal”\, Worpswede \nAnmeldungen bitte an Tanja Eder 0174 02708184
URL:https://www.landfrauen-stjuergen.de/event/06-09-25-j-i-l-wanderung-durch-worpswede/
END:VEVENT
END:VCALENDAR