BEGIN:VCALENDAR
VERSION:2.0
PRODID:-//Landfrauen St. Jürgen - ECPv6.0.5//NONSGML v1.0//EN
CALSCALE:GREGORIAN
METHOD:PUBLISH
X-WR-CALNAME:Landfrauen St. Jürgen
X-ORIGINAL-URL:https://www.landfrauen-stjuergen.de
X-WR-CALDESC:Veranstaltungen für Landfrauen St. Jürgen
REFRESH-INTERVAL;VALUE=DURATION:PT1H
X-Robots-Tag:noindex
X-PUBLISHED-TTL:PT1H
BEGIN:VTIMEZONE
TZID:Europe/Berlin
BEGIN:DAYLIGHT
TZOFFSETFROM:+0100
TZOFFSETTO:+0200
TZNAME:CEST
DTSTART:20250330T010000
END:DAYLIGHT
BEGIN:STANDARD
TZOFFSETFROM:+0200
TZOFFSETTO:+0100
TZNAME:CET
DTSTART:20251026T010000
END:STANDARD
END:VTIMEZONE
BEGIN:VEVENT
DTSTART;TZID=Europe/Berlin:20250806T150000
DTEND;TZID=Europe/Berlin:20250806T180000
DTSTAMP:20260419T221339
CREATED:20250713T161836Z
LAST-MODIFIED:20250713T161836Z
UID:4590-1754492400-1754503200@www.landfrauen-stjuergen.de
SUMMARY:06.08.25   "Lilienthaler Gastronomie in alten Zeiten" Vortrag von Karl- Heinz Sammy
DESCRIPTION:Über “Die Lilienthaler Gastronomie in alten Zeiten“ gibt es viel Interessantes und auch Lustiges zu berichten. Wir dürfen auf den Vortrag von Karl- Heinz Sammy gespannt sein. Lilienthal\, Emmi- Brauer- Haus\, Feldhäuser Str. 16 \nIm Anschluss genießen wir bei Kaffee und Kuchen einen geselligen Nachmittag. Kosten € 6\,- \nAnmeldungen bis zum 01.08. bei Gisela Weiland 04298 31325
URL:https://www.landfrauen-stjuergen.de/event/06-08-25-lilienthaler-gastronomie-in-alten-zeiten-vortrag-von-karl-heinz-sammy/
LOCATION:Emmi- Brauer- Haus\, Feldhäuser Str. 16\, Lilienthal\, 28865
END:VEVENT
BEGIN:VEVENT
DTSTART;TZID=Europe/Berlin:20250828T120000
DTEND;TZID=Europe/Berlin:20250828T180000
DTSTAMP:20260419T221339
CREATED:20250713T162844Z
LAST-MODIFIED:20250713T162844Z
UID:4593-1756382400-1756404000@www.landfrauen-stjuergen.de
SUMMARY:28.08.25   Fahrradtour mit Führungen auf dem "Fabelhof" und dem Gemüsehof
DESCRIPTION:Fabelhafte Radtour nach Weyerdeelen und nach Lüninghausen zum Gemüsehof. Start bei “Beckers“ Bei fabelhaftem Wetter und sagenhaft guter Laune radeln wir nach Worpswede. Die Bäuerin Alke Zimmermann wird uns über die Arbeit auf dem Fabelhof mit Mosterei\, Reittherapie\, Imkerei und anderen modernen Ideen berichten. \nDanach radeln wir nach Lünighausen wo wir noch Einblicke in die solidarische Landwirtschaft erhalten. \nAutofahrer sind willkommen 12:30 Uhr Fabelhof. \nKosten € 12\,- \nAnmeldungen bis zum 21.08. bei Gerda Köhler 0152 25747509
URL:https://www.landfrauen-stjuergen.de/event/28-08-25-fahrradtour-mit-fuehrungen-auf-dem-fabelhof-und-dem-gemuesehof/
LOCATION:Fabelhof\, Weyerdelen 19\, Worpswede\, 27726
END:VEVENT
END:VCALENDAR