BEGIN:VCALENDAR
VERSION:2.0
PRODID:-//Landfrauen St. Jürgen - ECPv6.0.5//NONSGML v1.0//EN
CALSCALE:GREGORIAN
METHOD:PUBLISH
X-WR-CALNAME:Landfrauen St. Jürgen
X-ORIGINAL-URL:https://www.landfrauen-stjuergen.de
X-WR-CALDESC:Veranstaltungen für Landfrauen St. Jürgen
REFRESH-INTERVAL;VALUE=DURATION:PT1H
X-Robots-Tag:noindex
X-PUBLISHED-TTL:PT1H
BEGIN:VTIMEZONE
TZID:Europe/Berlin
BEGIN:DAYLIGHT
TZOFFSETFROM:+0100
TZOFFSETTO:+0200
TZNAME:CEST
DTSTART:20250330T010000
END:DAYLIGHT
BEGIN:STANDARD
TZOFFSETFROM:+0200
TZOFFSETTO:+0100
TZNAME:CET
DTSTART:20251026T010000
END:STANDARD
END:VTIMEZONE
BEGIN:VEVENT
DTSTART;TZID=Europe/Berlin:20250704T160000
DTEND;TZID=Europe/Berlin:20250704T183000
DTSTAMP:20260423T103514
CREATED:20250317T073505Z
LAST-MODIFIED:20250614T150133Z
UID:4370-1751644800-1751653800@www.landfrauen-stjuergen.de
SUMMARY:04.07.25 Erste- Hilfe- Kurs mit Einweisung am Defibrillator
DESCRIPTION:Am Freitag 04.07.25 von 16:00 bis ca. 18:30 Uhr findet ein Erste Hilfe Kurs mit Defibrillator statt. Vieles ist sicher schon in Vergessenheit geraten\, da kann eine Auffrischung lebensrettend sein! Also seid gerne dabei. Im Feuerwehrhaus. \nKosten € 10\,- / Person (geht als Spende an die Kinderfeuerwehr St.Jürgen) \nAnmeldungen bis zum 27.06. bei Kerstin Braun 0179 9674405  \ngerne per Whats App
URL:https://www.landfrauen-stjuergen.de/event/04-07-25-erste-hilfe-kurs-mit-defibrillator/
LOCATION:Feuerwehrhaus Frankenburg\, Frankenburg 68\, Lilienthal\, 28865
END:VEVENT
BEGIN:VEVENT
DTSTART;TZID=Europe/Berlin:20250704T190000
DTEND;TZID=Europe/Berlin:20250704T220000
DTSTAMP:20260423T103514
CREATED:20250317T074152Z
LAST-MODIFIED:20250614T145728Z
UID:4373-1751655600-1751666400@www.landfrauen-stjuergen.de
SUMMARY:04.07.25 Grillabend
DESCRIPTION:Direkt im Anschluss könnt ihr Spaß haben\, bei einer Grillparty für alle Mitglieder \nab 19:00 Uhr zwischen Feuerwehrhaus und Sporthalle\, auf dem Dorfplatz \nGrillfleisch\, Salate\, gut gelaunte LandFrauen\, da kann doch nichts schief gehen. Für Wein\, Bier oder alkoholfreie Getränke wird natürlich auch gesorgt. Bei schlechtem Wetter können wir auf das Feuerwehrhaus ausweichen. \nKosten € 20\,- incl. Getränke \nAnmeldungen für beide Veranstaltungen bis zum 27.06.25 bei Kerstin Braun 04298 31928
URL:https://www.landfrauen-stjuergen.de/event/04-07-25-grillabend/
LOCATION:Feuerwehrhaus Frankenburg\, Frankenburg 68\, Lilienthal\, 28865
END:VEVENT
BEGIN:VEVENT
DTSTART;TZID=Europe/Berlin:20250717T123000
DTEND;TZID=Europe/Berlin:20250717T180000
DTSTAMP:20260423T103514
CREATED:20250614T144725Z
LAST-MODIFIED:20250614T144725Z
UID:4567-1752755400-1752775200@www.landfrauen-stjuergen.de
SUMMARY:17.07.25    E- Bike Tour mit Besichtigung des Betriebes "Wulfsburg" (Fleischvermarktung)
DESCRIPTION:Die E-Bike-Tour startet um 12:30 Uhr auf dem Parkplatz bei “Beckers“\, Lilienthal- Frankenburg\, und führt uns ins Teufelsmoor. Wir besichtigen den Hof “Wulfsburg“ und bekommen viele Informationen zur Fleischvermarktung. Danach radeln wir weiter zum Hofcafé Oldenbüttel\, Freißenbütteler Str. 2\, Hambergen. Hier stärken wir uns bei Kaffee und Kuchen für die Rückfahrt. Auch Autofahrer sind herzlich willkommen\, wir sind um ca. 15:00 Uhr beim Hofcafé. Kaffee und Kuchen auf eigene Rechnung. \nAnmeldungen bis zum 08.07. bei Hanna Grube 04792 950624
URL:https://www.landfrauen-stjuergen.de/event/17-07-25-e-bike-tour-mit-besichtigung-des-betriebes-wulfsburg-fleischvermarktung/
LOCATION:Beckers Parkplatz\, Frankenburg 27\, Lilienthal\, 28865
END:VEVENT
END:VCALENDAR