BEGIN:VCALENDAR
VERSION:2.0
PRODID:-//Landfrauen St. Jürgen - ECPv6.0.5//NONSGML v1.0//EN
CALSCALE:GREGORIAN
METHOD:PUBLISH
X-WR-CALNAME:Landfrauen St. Jürgen
X-ORIGINAL-URL:https://www.landfrauen-stjuergen.de
X-WR-CALDESC:Veranstaltungen für Landfrauen St. Jürgen
REFRESH-INTERVAL;VALUE=DURATION:PT1H
X-Robots-Tag:noindex
X-PUBLISHED-TTL:PT1H
BEGIN:VTIMEZONE
TZID:Europe/Berlin
BEGIN:DAYLIGHT
TZOFFSETFROM:+0100
TZOFFSETTO:+0200
TZNAME:CEST
DTSTART:20250330T010000
END:DAYLIGHT
BEGIN:STANDARD
TZOFFSETFROM:+0200
TZOFFSETTO:+0100
TZNAME:CET
DTSTART:20251026T010000
END:STANDARD
END:VTIMEZONE
BEGIN:VEVENT
DTSTART;VALUE=DATE:20250609
DTEND;VALUE=DATE:20250610
DTSTAMP:20260421T113633
CREATED:20250316T173415Z
LAST-MODIFIED:20250316T173415Z
UID:4359-1749427200-1749513599@www.landfrauen-stjuergen.de
SUMMARY:09.06.25 Pfingstmarkt an der Kirche St. Jürgen
DESCRIPTION:Pfingstmontag erleben wir an der Kirche St. Jürgen den “Pfingstmarkt“. Vor zwei Jahren war das ein wunderbarer\, stimmungsvoller Treffpunkt. Unser LandFrauen Café wurde sehr geschätzt. Dafür benötigen wir Eure Hilfe: Kaffee- und Kuchen- Verkauf\, euren Lieblingskuchen und Dekoqueens zum Auf- und Abbauen. Der Erlös wird für die Kirche und für unsere eigene Arbeit gespendet\, die Kuchen werden vergütet. \nMeldet euch bitte bei Heike Michels Tel. 04298 41166 oder per WA 0162 9699586
URL:https://www.landfrauen-stjuergen.de/event/09-06-25-pfingstmarkt-an-der-kirche-st-juergen/
END:VEVENT
BEGIN:VEVENT
DTSTART;TZID=Europe/Berlin:20250612T190000
DTEND;TZID=Europe/Berlin:20250612T213000
DTSTAMP:20260421T113633
CREATED:20250316T174015Z
LAST-MODIFIED:20250316T174015Z
UID:4361-1749754800-1749763800@www.landfrauen-stjuergen.de
SUMMARY:12.06.25 J I L - Gruppe St. Jürgen Sommertreff
DESCRIPTION:Die jungen LandFrauen St. Jürgen treffen sich zum Sommertreff. Einfach mal Klönen in geselliger Runde \nAnmeldungen bis zum 03.06. bei Doreen Lindemann gerne per Whats App 0174 4169523
URL:https://www.landfrauen-stjuergen.de/event/12-06-25-j-i-l-gruppe-st-juergen-sommertreff/
END:VEVENT
BEGIN:VEVENT
DTSTART;TZID=Europe/Berlin:20250621T103000
DTEND;TZID=Europe/Berlin:20250621T133000
DTSTAMP:20260421T113633
CREATED:20250316T175107Z
LAST-MODIFIED:20250316T175107Z
UID:4363-1750501800-1750512600@www.landfrauen-stjuergen.de
SUMMARY:21.06.25 Brunch im "Puppencafé"\, Fischerhude
DESCRIPTION:Ebenfalls im Juni steht der Brunch im Puppencafé auf dem Plan\, wahlweise mit Fahrrad oder Auto. Das besondere beim Brunch\, nach dem Frühstück wird noch Fleisch und Fisch aufgetragen\, für den 2. Gang. Das gemeinsame\, gemütliche Essen steht an diesem Tag im Vordergrund. Dazu sind Ehemänner\, sowie Gäste herzlich willkommen. Auf der Hinfahrt geht es auf dem direkten Weg nach Fischerhude. Der Rückweg wird länger und wird uns durch die Wiesen führen. Start der Fahrradtour um 9.00 Uhr in Frankenburg bei Beckers und um 9.15 Uhr beim Hotel Schomacker in Heidberg an der Wörpe. Für die Autofahrer 10:30 Uhr beim Café.  Kosten € 30\,- für den Brunch bitte auf das LandFrauenkonto (s. o.) überweisen. \nLandFrauen St. Jürgen:    Volksbank Osterholz          IBAN:     DE71 2916 2394 0723 2284 00 \nAnmeldungen bis zum 05.06. bei Herma Michaelis 04298 909911 (ab 16:00 Uhr)
URL:https://www.landfrauen-stjuergen.de/event/21-06-25-brunch-im-puppencafe-fischerhude/
LOCATION:Puppencafe\, Kirchstr. 10\, Fischerhude
END:VEVENT
END:VCALENDAR