BEGIN:VCALENDAR
VERSION:2.0
PRODID:-//Landfrauen St. Jürgen - ECPv6.0.5//NONSGML v1.0//EN
CALSCALE:GREGORIAN
METHOD:PUBLISH
X-WR-CALNAME:Landfrauen St. Jürgen
X-ORIGINAL-URL:https://www.landfrauen-stjuergen.de
X-WR-CALDESC:Veranstaltungen für Landfrauen St. Jürgen
REFRESH-INTERVAL;VALUE=DURATION:PT1H
X-Robots-Tag:noindex
X-PUBLISHED-TTL:PT1H
BEGIN:VTIMEZONE
TZID:Europe/Berlin
BEGIN:DAYLIGHT
TZOFFSETFROM:+0100
TZOFFSETTO:+0200
TZNAME:CEST
DTSTART:20250330T010000
END:DAYLIGHT
BEGIN:STANDARD
TZOFFSETFROM:+0200
TZOFFSETTO:+0100
TZNAME:CET
DTSTART:20251026T010000
END:STANDARD
END:VTIMEZONE
BEGIN:VEVENT
DTSTART;TZID=Europe/Berlin:20250507T193000
DTEND;TZID=Europe/Berlin:20250507T213000
DTSTAMP:20260421T125639
CREATED:20250317T071959Z
LAST-MODIFIED:20250317T071959Z
UID:4368-1746646200-1746653400@www.landfrauen-stjuergen.de
SUMMARY:07.05.25  Heeresmusikkorps Hannover Wohltätigkeits- Konzert
DESCRIPTION:Der KreislandFrauenverband Osterholz ist Mitveranstalter des Wohltätigkeits- Konzerts des Heeresmusikkorps Hannover. So viele von uns haben bereits daran teilgenommen\, ein wirklich tolles Konzert. Der Reinerlös geht in diesem Jahr an an die Rettungshunde Staffel im Landkreis Osterholz und für den Innenausbau der Museumsanlage in Osterholz- Scharmbeck. Am 07.05.25 um 19:30 Uhr (Einlass ab 18:30) in der Stadthalle OHZ. Freie Platzwahl ab Reihe 7. Die Karte kostet € 17\,- (auch für Gäste) Abholung und Zahlung bei Heike Michels 04298 41166 oder Hanna Grube 04792 950624\, bitte in bar.
URL:https://www.landfrauen-stjuergen.de/event/07-05-25-heeresmusikkorps-hannover-wohltaetigkeits-konzert/
LOCATION:Stadthalle Osterholz\, Jacob-Frerichs-Str. 1\, Osterholz-Scharmbeck\, 27711\, Deutschland
END:VEVENT
BEGIN:VEVENT
DTSTART;VALUE=DATE:20250510
DTEND;VALUE=DATE:20250512
DTSTAMP:20260421T125639
CREATED:20241220T165631Z
LAST-MODIFIED:20250315T173453Z
UID:4263-1746835200-1747007999@www.landfrauen-stjuergen.de
SUMMARY:10. und 11.05.25   Mädels Wochenende in Celle
DESCRIPTION:Achtung! Diese Reise ist bereits ausgebucht\, evtl. könnt ihr über die Warteliste noch nachrücken. \nIm Mai\, am 10./ 11.2025 haben wir uns etwas richtig Schönes für unsere LandFrauen überlegt. Ein Mädels- Wochenende in Celle. Diese 2- Tagestour startet am Samstag um 8:00 Uhr bei der Sporthalle in Lilienthal\, Frankenburg mit einem komfortablen Reisebus (Reisedienst von Rahden). \nDie Unterbringung wird im “Hampton by Hilton“ in der Innenstadt sein. Auf dem Programm stehen die Schlossbesichtigung\, reichlich Zeit für eine Shopping Tour und ein tolles Abend Buffett im “Stadtpalais“. Da lassen wir es uns richtig gut gehen. Nach dem Frühstück am nächsten Morgen freuen wir uns auf eine Führung im Heilpflanzengarten\, Celle. Hier erfahren wir viel Wissenswertes für unsere Gesundheit. Ein gemeinsames Mittagessen ist auch dabei und am Nachmittag erleben wir noch ein wunderbares Event\, eine Aufführung im historischem Schlosstheater. Dieses Theater feiert in der Spielsaison 2024/25 sein 350 jähriges Jubiläum! Zurück in Lilienthal sind wir gegen 20:00 Uhr. \nKosten für dieses Komplettangebot € 259\,- pro Person im Doppelzimmer. Wenn ihr noch Information benötigt\, gerne anrufen! \nVerbindliche Anmeldungen bis zum 02.03. bei Anke Kampe Tel. 04298 41540
URL:https://www.landfrauen-stjuergen.de/event/10-und-11-05-25-maedels-wochenende-in-celle/
END:VEVENT
BEGIN:VEVENT
DTSTART;TZID=Europe/Berlin:20250510T140000
DTEND;TZID=Europe/Berlin:20250510T170000
DTSTAMP:20260421T125639
CREATED:20250315T174036Z
LAST-MODIFIED:20250315T174543Z
UID:4345-1746885600-1746896400@www.landfrauen-stjuergen.de
SUMMARY:10.05.25 J I L - St. Jürgen - Wörpedorf- Neu. St. Jürgen
DESCRIPTION:Hofbesichtigung mit Kräuterwanderung auf dem Furth Hof \nBestimmt eine sehr interessante Veranstaltung. Im Anschluss werden die Kräuter gemeinsam verarbeitet. \nAnmeldungen bis 26.04. bei Rike Detjen 0176 41677995
URL:https://www.landfrauen-stjuergen.de/event/10-05-25-j-i-l-st-juergen-woerpedorf-neu-st-juergen/
LOCATION:Furth Hof\, Hinnebecker Furth 9\, Schwanewede\, 28790
END:VEVENT
BEGIN:VEVENT
DTSTART;TZID=Europe/Berlin:20250517T110000
DTEND;TZID=Europe/Berlin:20250517T140000
DTSTAMP:20260421T125639
CREATED:20250316T171836Z
LAST-MODIFIED:20250316T171836Z
UID:4354-1747479600-1747490400@www.landfrauen-stjuergen.de
SUMMARY:17.05.25   Stadtführung "Bremer Unterwelten"
DESCRIPTION:Für unsere Stadtführung am 17.05. ist der Treffpunkt  am “Siemens Hochhaus“\, Contrescarpe 72 \nWir haben für euch die Stadtführung “Bremer Unterwelten II” gebucht und werden u. a. eine Unterpflasterstraße und die ehemalige Bananenkammer sehen. Wir entriegeln unterirdische Räumlichkeiten\, die sonst nur schwer zugänglich sind. Dieser Rundgang lässt tief blicken und wir bleiben dabei garantiert nicht oberflächlich! Kosten für die Führung € 16\,- Bitte überweisen \nLandFrauen St. Jürgen:    Volksbank Osterholz          IBAN:     DE71 2916 2394 0723 2284 00 \nAnmeldungen bis zum 10.05. bei Anke Pientka- Otten 04298 41181  Wir versuchen Fahrgemeinschaften zu organisieren. Bitte bei Anmeldung besprechen.
URL:https://www.landfrauen-stjuergen.de/event/17-05-25-stadtfuehrung-bremer-unterwelten/
LOCATION:Siemens Hochhaus\, Contrescarpe 72\, Bremen\, 28359\, Deutschland
END:VEVENT
BEGIN:VEVENT
DTSTART;TZID=Europe/Berlin:20250524T140000
DTEND;TZID=Europe/Berlin:20250524T170000
DTSTAMP:20260421T125639
CREATED:20250316T173015Z
LAST-MODIFIED:20250316T173015Z
UID:4357-1748095200-1748106000@www.landfrauen-stjuergen.de
SUMMARY:24.05.24   J I L - St. Jürgen   Mopedtour
DESCRIPTION:Die jungen LandFrauen St. Jürgen starten am 24. 05. in Otterstedt zu ihrer Moped Tour durch Otterstedt und umzu. Eine geführte Tour rund um das Örtchen Otterstedt\, das wird bestimmt lustig! Die Kosten von € 50\,- bitte bei der Anmeldung auf das LandFrauenkonto überweisen  (Helm Ausleihe + € 5\,-) Führerschein ist Voraussetzung \nLandFrauen St. Jürgen:    Volksbank Osterholz          IBAN:     DE71 2916 2394 0723 2284 00 \nAnmeldungen bis zum 10.05. bei Doreen Lindemann gerne per Whats App 0174 4169523
URL:https://www.landfrauen-stjuergen.de/event/24-05-24-j-i-l-st-juergen-mopedtour/
END:VEVENT
END:VCALENDAR