BEGIN:VCALENDAR
VERSION:2.0
PRODID:-//Landfrauen St. Jürgen - ECPv6.0.5//NONSGML v1.0//EN
CALSCALE:GREGORIAN
METHOD:PUBLISH
X-ORIGINAL-URL:https://www.landfrauen-stjuergen.de
X-WR-CALDESC:Veranstaltungen für Landfrauen St. Jürgen
REFRESH-INTERVAL;VALUE=DURATION:PT1H
X-Robots-Tag:noindex
X-PUBLISHED-TTL:PT1H
BEGIN:VTIMEZONE
TZID:Europe/Berlin
BEGIN:DAYLIGHT
TZOFFSETFROM:+0100
TZOFFSETTO:+0200
TZNAME:CEST
DTSTART:20240331T010000
END:DAYLIGHT
BEGIN:STANDARD
TZOFFSETFROM:+0200
TZOFFSETTO:+0100
TZNAME:CET
DTSTART:20241027T010000
END:STANDARD
END:VTIMEZONE
BEGIN:VEVENT
DTSTART;TZID=Europe/Berlin:20240602T110000
DTEND;TZID=Europe/Berlin:20240602T160000
DTSTAMP:20260424T132050
CREATED:20240526T080431Z
LAST-MODIFIED:20240526T080431Z
UID:3818-1717326000-1717344000@www.landfrauen-stjuergen.de
SUMMARY:02.06.24   Fahrradtour zum Spargelbuffet nach Tarmstedt
DESCRIPTION:Bereits im Jahr 2023 hatten wir diese Fahrradtour im Programm. Den teilnehmenden LandFrauen hat das\nreichhaltige Spargelbuffet mit regionalem Spargel so gut gefallen\, dass sie sich eine Wiederholung\ngewünscht haben. Auch Partner\, Ehemänner und Gäste sind herzlich willkommen. Wer nicht mit dem Rad fahren möchte\,\nkann auch mit dem Auto direkt zum Tarmstedter Hof (13.00 Uhr) fahren. Die Radler treffen sich auch\ndiesmal bei „Beckers“\, Frankenburg auf dem Parkplatz und dürfen sich auf eine gemütliche Tour durch\nunsere schöne Landschaft freuen. Da Spargel ein Saisonprodukt ist\, steht der Preis noch nicht fest. \nAnmeldungen bis zum 20.05. bei Hanna Grube Tel. 0 47 92- 95 06 24\nauch per WA\n________________________________________________________________________________
URL:https://www.landfrauen-stjuergen.de/event/02-06-24-fahrradtour-zum-spargelbuffet-nach-tarmstedt/
END:VEVENT
BEGIN:VEVENT
DTSTART;TZID=Europe/Berlin:20240608T133000
DTEND;TZID=Europe/Berlin:20240608T153000
DTSTAMP:20260424T132050
CREATED:20240526T081435Z
LAST-MODIFIED:20240526T082244Z
UID:3820-1717853400-1717860600@www.landfrauen-stjuergen.de
SUMMARY:08.06.24   Stand up paddeling auf dem Unisee
DESCRIPTION:Am Samstag\, 08.06. treffen wir uns zusammen mit der JIL- Gruppe zum Stand up paddeling. Das wird bestimmt ein riesen Spaß. Dieses sportliche Angebot richtet sich an alle LandFrauen\, nicht nur an die JIL- Gruppe\, und findet auf dem Unisee statt. Wir bekommen eine Einführung und haben danach Gelegenheit den See etwas zu erkunden (insg. 2 Std.).\nSchnell anmelden\, es stehen nur wenige Plätze zur Verfügung! Kosten € 59\,- incl. Board und Paddel \nAnmeldungen bis zum 30.05.bei Doreen Lindemann Tel. 0174- 41 69 523\nBitte bei Anmeldung auf das u. g. LandFrauenkonto überweisen\nLandFrauen St. Jürgen: Volksbank Osterholz IBAN: DE71 2916 2394 0723 2284 00\n________________________________________________________________________________
URL:https://www.landfrauen-stjuergen.de/event/08-06-24-stand-up-paddeling-auf-dem-unisee/
LOCATION:SUP Station Bremen\, Hochschulring\, Parkplatz Nord\, 28359 Bremen
END:VEVENT
BEGIN:VEVENT
DTSTART;TZID=Europe/Berlin:20240615T120000
DTEND;TZID=Europe/Berlin:20240615T150000
DTSTAMP:20260424T132050
CREATED:20240526T083631Z
LAST-MODIFIED:20240526T083846Z
UID:3824-1718452800-1718463600@www.landfrauen-stjuergen.de
SUMMARY:15.06.24   Führung und Besichtigung Aalto- Hochhaus
DESCRIPTION:Das vom finnischen Architekten Alvar Aalto entworfene\, 65 Meter hohe Wohnhochhaus\, ist ein\nWahrzeichen des Stadtteils Bremen- Vahr. Es wurde 1961 fertiggestellt. Geborgenheit und Individualität und private Abgeschieden-\nheit war das Ziel von Aalto. Zur Feierabendsonne ausgerichtete mit großen Fenstern zum Westen war\nes ein neues Konzept. Jede Wohnung auf der Etage ist anders. Herr Diehl\, selber Mieter im Alto\nHochhaus\, hat viel über das Haus zu berichten. Seid gespannt! Geplant ist eine gemeinsame Fahrt mit\nder Straßenbahn\, genauere Infos bei Anmeldung. Kosten € 3\,- plus ca. € 4.- für die Fahrkarte.\nIm Anschluss ist der Besuch im Eiscafe Sem Mar vorgesehen. \nAnmeldungen bis zum 04.06. bei Marita Baad Tel. 0 42 98- 30 626
URL:https://www.landfrauen-stjuergen.de/event/15-06-24-fuehrung-und-besichtigung-alto-hochhaus/
LOCATION:Aalto Hochhaus\, Berliner Freiheit 9\, 28327 Bremen
END:VEVENT
BEGIN:VEVENT
DTSTART;TZID=Europe/Berlin:20240625T190000
DTEND;TZID=Europe/Berlin:20240625T213000
DTSTAMP:20260424T132050
CREATED:20240622T071259Z
LAST-MODIFIED:20240622T071259Z
UID:3887-1719342000-1719351000@www.landfrauen-stjuergen.de
SUMMARY:25.06.24    Spieleabend
DESCRIPTION:Jeden letzten Dienstag im Monat findet ein Spieleabend der LandFrauen St. Jürgen statt. Treffpunkt ist das Obergeschoß der Sporthalle\, Frankenburg. \nIn kleinen Gruppen spielen wir die unterschiedlichsten Spiele. Vieles haben wir schon ausprobiert z. B. Rummikub\, Uno\, Skyjo\, Wizzard\, Triominos\, Pochen oder Kniffeln. Wir sind aber auch offen für etwas Neues. Egal\, ob du jung oder alt bist\, wenn du Spaß am Spielen hast\, komm gerne vorbei. Spiele\, Getränke oder Knabbersachen bitte gerne mitbringen. Nicht nur Mitglieder\, auch Gäste sind herzlich willkommen. \nAnmeldungen bei Anke Kampe Tel. 0 42 98- 4 15 40
URL:https://www.landfrauen-stjuergen.de/event/25-06-24-spieleabend/
LOCATION:Sporthalle Frankenburg\, Frankenburg 70\, 28865 Lilienthal
END:VEVENT
END:VCALENDAR