BEGIN:VCALENDAR
VERSION:2.0
PRODID:-//Landfrauen St. Jürgen - ECPv6.0.5//NONSGML v1.0//EN
CALSCALE:GREGORIAN
METHOD:PUBLISH
X-ORIGINAL-URL:https://www.landfrauen-stjuergen.de
X-WR-CALDESC:Veranstaltungen für Landfrauen St. Jürgen
REFRESH-INTERVAL;VALUE=DURATION:PT1H
X-Robots-Tag:noindex
X-PUBLISHED-TTL:PT1H
BEGIN:VTIMEZONE
TZID:Europe/Berlin
BEGIN:DAYLIGHT
TZOFFSETFROM:+0100
TZOFFSETTO:+0200
TZNAME:CEST
DTSTART:20260329T010000
END:DAYLIGHT
BEGIN:STANDARD
TZOFFSETFROM:+0200
TZOFFSETTO:+0100
TZNAME:CET
DTSTART:20261025T010000
END:STANDARD
END:VTIMEZONE
BEGIN:VEVENT
DTSTART;TZID=Europe/Berlin:20260212T193000
DTEND;TZID=Europe/Berlin:20260212T213000
DTSTAMP:20260419T151007
CREATED:20251219T084715Z
LAST-MODIFIED:20251219T085028Z
UID:4914-1770924600-1770931800@www.landfrauen-stjuergen.de
SUMMARY:12.02.2026   Kinoabend "Was uns verbindet"
DESCRIPTION:Der gemeinsame Kinoabend hat schon Tradition. In netter Gesellschaft bei einem Glas Wein genießen wir einen besonders schönen Abend. Diesmal sehen wir “Was uns verbindet“ – ein Film mit viel Herz und Melancholie. Eine feministische Frau\, aus Überzeugung kinderlos\, entdeckt eine neue Seite an sich selbst. \nAm 12.02. um 19:30 Uhr in “Murkens Hof (Schroetersaal)“. Vorab wird der Imagefilm des NLV gezeigt. Einlass ab 19:00 Uhr \nKosten € 5\,- auch für Gäste \nAnmeldungen bis zum 05.02. bei Hanna Grube 04792 950624
URL:https://www.landfrauen-stjuergen.de/event/12-02-2026/
LOCATION:Murkens Hof\, Klosterstraße 25\, Lilienthal
END:VEVENT
END:VCALENDAR