BEGIN:VCALENDAR
VERSION:2.0
PRODID:-//Landfrauen St. Jürgen - ECPv6.0.5//NONSGML v1.0//EN
CALSCALE:GREGORIAN
METHOD:PUBLISH
X-WR-CALNAME:Landfrauen St. Jürgen
X-ORIGINAL-URL:https://www.landfrauen-stjuergen.de
X-WR-CALDESC:Veranstaltungen für Landfrauen St. Jürgen
REFRESH-INTERVAL;VALUE=DURATION:PT1H
X-Robots-Tag:noindex
X-PUBLISHED-TTL:PT1H
BEGIN:VTIMEZONE
TZID:Europe/Berlin
BEGIN:DAYLIGHT
TZOFFSETFROM:+0100
TZOFFSETTO:+0200
TZNAME:CEST
DTSTART:20260329T010000
END:DAYLIGHT
BEGIN:STANDARD
TZOFFSETFROM:+0200
TZOFFSETTO:+0100
TZNAME:CET
DTSTART:20261025T010000
END:STANDARD
END:VTIMEZONE
BEGIN:VEVENT
DTSTART;TZID=Europe/Berlin:20260121T180500
DTEND;TZID=Europe/Berlin:20260121T193000
DTSTAMP:20260419T162142
CREATED:20251219T082839Z
LAST-MODIFIED:20251219T082839Z
UID:4910-1769018700-1769023800@www.landfrauen-stjuergen.de
SUMMARY:21.01.2026   18:05 Uhr - Konzert "Bremer Philharmoniker"
DESCRIPTION:Das 18:05 Konzert im großen Saal der “Glocke“\, ist etwas ganz Besonderes. Die Bremer Philharmoniker unter der Leitung von Aurel Dawidiuk verwöhnen uns mit  »Polka Beats und Walzer Vibes« \nJohann Strauß\, Sohn: Walzer\, Polkas und Märsche \nJohannes Brahms: Ungarische Tänze \nKosten € 22\,- \nAnmeldungen (Warteliste) bei Gisela Weiland 04298 31325
URL:https://www.landfrauen-stjuergen.de/event/21-01-2026-1805-uhr-konzert-bremer-philharmoniker/
END:VEVENT
END:VCALENDAR