BEGIN:VCALENDAR
VERSION:2.0
PRODID:-//Landfrauen St. Jürgen - ECPv6.0.5//NONSGML v1.0//EN
CALSCALE:GREGORIAN
METHOD:PUBLISH
X-ORIGINAL-URL:https://www.landfrauen-stjuergen.de
X-WR-CALDESC:Veranstaltungen für Landfrauen St. Jürgen
REFRESH-INTERVAL;VALUE=DURATION:PT1H
X-Robots-Tag:noindex
X-PUBLISHED-TTL:PT1H
BEGIN:VTIMEZONE
TZID:Europe/Berlin
BEGIN:DAYLIGHT
TZOFFSETFROM:+0100
TZOFFSETTO:+0200
TZNAME:CEST
DTSTART:20250330T010000
END:DAYLIGHT
BEGIN:STANDARD
TZOFFSETFROM:+0200
TZOFFSETTO:+0100
TZNAME:CET
DTSTART:20251026T010000
END:STANDARD
END:VTIMEZONE
BEGIN:VEVENT
DTSTART;TZID=Europe/Berlin:20251106T190000
DTEND;TZID=Europe/Berlin:20251106T213000
DTSTAMP:20260421T114612
CREATED:20250916T162502Z
LAST-MODIFIED:20250916T162502Z
UID:4734-1762455600-1762464600@www.landfrauen-stjuergen.de
SUMMARY:06.11.25 Mitgliederversammlung
DESCRIPTION:Im November steht die Mitgliederversammlung an. Auch diesmal bei “Beckers“ in Frankenburg. Wir haben eine Kleinigkeit zum Essen bestellt und es gibt auch wieder die Bücher- Tauschbörse. Ein ausgelesenes Exemplar mitbringen und im Tausch ein Buch wieder mitnehmen. Das kam im letzten Jahr richtig gut an. Der Vorstand berichtet aus dem vergangenen Jahr und natürlich gehören auch die Wahlen dazu. In diesem Jahr die 1. Vorsitzende\, die 2. Schriftführerin\, 1 Kassenprüferin und 1 Mitglied für den Wahlausschuss \nAnmeldungen bis zum 01.11. bei Kerstin Braun Tel. 0 42 98-3 19 28 \n 
URL:https://www.landfrauen-stjuergen.de/event/06-11-25-mitgliederversammlung/
LOCATION:Beckers Restaurant\, Frankenburg 27\, Lilienthal\, 28865
END:VEVENT
END:VCALENDAR