BEGIN:VCALENDAR
VERSION:2.0
PRODID:-//Landfrauen St. Jürgen - ECPv6.0.5//NONSGML v1.0//EN
CALSCALE:GREGORIAN
METHOD:PUBLISH
X-ORIGINAL-URL:https://www.landfrauen-stjuergen.de
X-WR-CALDESC:Veranstaltungen für Landfrauen St. Jürgen
REFRESH-INTERVAL;VALUE=DURATION:PT1H
X-Robots-Tag:noindex
X-PUBLISHED-TTL:PT1H
BEGIN:VTIMEZONE
TZID:Europe/Berlin
BEGIN:DAYLIGHT
TZOFFSETFROM:+0100
TZOFFSETTO:+0200
TZNAME:CEST
DTSTART:20250330T010000
END:DAYLIGHT
BEGIN:STANDARD
TZOFFSETFROM:+0200
TZOFFSETTO:+0100
TZNAME:CET
DTSTART:20251026T010000
END:STANDARD
END:VTIMEZONE
BEGIN:VEVENT
DTSTART;TZID=Europe/Berlin:20251021T180000
DTEND;TZID=Europe/Berlin:20251021T213000
DTSTAMP:20260419T204544
CREATED:20250916T161235Z
LAST-MODIFIED:20251006T073956Z
UID:4729-1761069600-1761082200@www.landfrauen-stjuergen.de
SUMMARY:21.10.25 Kreativabend: Mit Raysin gestalten
DESCRIPTION:Am 21. Oktober gestalten wir mit Raysin\, einem feinen\, porzellanartigen Material. Ein paar Plätze sind noch frei. Treffpunkt ist das Küsterschulhaus bei der Kirche St. Jürgen. Kosten für Mitglieder € 14\,- (incl. 1 kg Material) Gäste € 17\,-      jedes weitere Kilo € 7\,- \nAnmeldungen bis zum 14.10. bei Anke Pientka- Otten 04298 41181
URL:https://www.landfrauen-stjuergen.de/event/21-10-25-kreativabend-mit-raysin-gestalten/
LOCATION:Kirche St. Jürgen\, St. Jürgen 1\, Lilienthal\, 28865
END:VEVENT
END:VCALENDAR