BEGIN:VCALENDAR
VERSION:2.0
PRODID:-//Landfrauen St. Jürgen - ECPv6.0.5//NONSGML v1.0//EN
CALSCALE:GREGORIAN
METHOD:PUBLISH
X-ORIGINAL-URL:https://www.landfrauen-stjuergen.de
X-WR-CALDESC:Veranstaltungen für Landfrauen St. Jürgen
REFRESH-INTERVAL;VALUE=DURATION:PT1H
X-Robots-Tag:noindex
X-PUBLISHED-TTL:PT1H
BEGIN:VTIMEZONE
TZID:Europe/Berlin
BEGIN:DAYLIGHT
TZOFFSETFROM:+0100
TZOFFSETTO:+0200
TZNAME:CEST
DTSTART:20250330T010000
END:DAYLIGHT
BEGIN:STANDARD
TZOFFSETFROM:+0200
TZOFFSETTO:+0100
TZNAME:CET
DTSTART:20251026T010000
END:STANDARD
END:VTIMEZONE
BEGIN:VEVENT
DTSTART;TZID=Europe/Berlin:20251017T180000
DTEND;TZID=Europe/Berlin:20251017T213000
DTSTAMP:20260421T115311
CREATED:20250916T160619Z
LAST-MODIFIED:20250916T160619Z
UID:4727-1760724000-1760736600@www.landfrauen-stjuergen.de
SUMMARY:17.10.25 "Essen ist fertig!" Familienküche leicht(er) gemacht
DESCRIPTION:Im Familienalltag ist es manchmal nicht einfach\, allen Bedürfnissen und Wünschen gerecht zu werden\, und das bei einem stressigen Tagesablauf. Im Vortrag geht es rund ums Essen für alle. Gesunde Ernährung: Was ist das eigentlich? „Was Hänschen nicht lernt …“ – Ernährungsgewohnheiten unter der Lupe und gesundes Essen lernen. Zeit sparen und Nerven schonen: Planung\, Einkauf\, alltagstaugliche\, kreative und gesunde Küche (mit Rezeptteil). \nDazu werden Getränke und Snacks gereicht. Kosten für Mitglieder € 10\,-/ Gäste € 13\,- \nAnmeldungen bis zum 10.10. bei Heike Michels 04298 41166
URL:https://www.landfrauen-stjuergen.de/event/17-10-25-essen-ist-fertig-familienkueche-leichter-gemacht/
LOCATION:Freiwilligenagentur\, Konventshof 4\, Lilienthal\, 28865
END:VEVENT
END:VCALENDAR