BEGIN:VCALENDAR
VERSION:2.0
PRODID:-//Landfrauen St. Jürgen - ECPv6.0.5//NONSGML v1.0//EN
CALSCALE:GREGORIAN
METHOD:PUBLISH
X-WR-CALNAME:Landfrauen St. Jürgen
X-ORIGINAL-URL:https://www.landfrauen-stjuergen.de
X-WR-CALDESC:Veranstaltungen für Landfrauen St. Jürgen
REFRESH-INTERVAL;VALUE=DURATION:PT1H
X-Robots-Tag:noindex
X-PUBLISHED-TTL:PT1H
BEGIN:VTIMEZONE
TZID:Europe/Berlin
BEGIN:DAYLIGHT
TZOFFSETFROM:+0100
TZOFFSETTO:+0200
TZNAME:CEST
DTSTART:20250330T010000
END:DAYLIGHT
BEGIN:STANDARD
TZOFFSETFROM:+0200
TZOFFSETTO:+0100
TZNAME:CET
DTSTART:20251026T010000
END:STANDARD
END:VTIMEZONE
BEGIN:VEVENT
DTSTART;TZID=Europe/Berlin:20250517T110000
DTEND;TZID=Europe/Berlin:20250517T140000
DTSTAMP:20260421T141907
CREATED:20250316T171836Z
LAST-MODIFIED:20250316T171836Z
UID:4354-1747479600-1747490400@www.landfrauen-stjuergen.de
SUMMARY:17.05.25   Stadtführung "Bremer Unterwelten"
DESCRIPTION:Für unsere Stadtführung am 17.05. ist der Treffpunkt  am “Siemens Hochhaus“\, Contrescarpe 72 \nWir haben für euch die Stadtführung “Bremer Unterwelten II” gebucht und werden u. a. eine Unterpflasterstraße und die ehemalige Bananenkammer sehen. Wir entriegeln unterirdische Räumlichkeiten\, die sonst nur schwer zugänglich sind. Dieser Rundgang lässt tief blicken und wir bleiben dabei garantiert nicht oberflächlich! Kosten für die Führung € 16\,- Bitte überweisen \nLandFrauen St. Jürgen:    Volksbank Osterholz          IBAN:     DE71 2916 2394 0723 2284 00 \nAnmeldungen bis zum 10.05. bei Anke Pientka- Otten 04298 41181  Wir versuchen Fahrgemeinschaften zu organisieren. Bitte bei Anmeldung besprechen.
URL:https://www.landfrauen-stjuergen.de/event/17-05-25-stadtfuehrung-bremer-unterwelten/
LOCATION:Siemens Hochhaus\, Contrescarpe 72\, Bremen\, 28359\, Deutschland
END:VEVENT
END:VCALENDAR