BEGIN:VCALENDAR
VERSION:2.0
PRODID:-//Landfrauen St. Jürgen - ECPv6.0.5//NONSGML v1.0//EN
CALSCALE:GREGORIAN
METHOD:PUBLISH
X-ORIGINAL-URL:https://www.landfrauen-stjuergen.de
X-WR-CALDESC:Veranstaltungen für Landfrauen St. Jürgen
REFRESH-INTERVAL;VALUE=DURATION:PT1H
X-Robots-Tag:noindex
X-PUBLISHED-TTL:PT1H
BEGIN:VTIMEZONE
TZID:Europe/Berlin
BEGIN:DAYLIGHT
TZOFFSETFROM:+0100
TZOFFSETTO:+0200
TZNAME:CEST
DTSTART:20250330T010000
END:DAYLIGHT
BEGIN:STANDARD
TZOFFSETFROM:+0200
TZOFFSETTO:+0100
TZNAME:CET
DTSTART:20251026T010000
END:STANDARD
END:VTIMEZONE
BEGIN:VEVENT
DTSTART;VALUE=DATE:20250510
DTEND;VALUE=DATE:20250512
DTSTAMP:20260421T142210
CREATED:20241220T165631Z
LAST-MODIFIED:20250315T173453Z
UID:4263-1746835200-1747007999@www.landfrauen-stjuergen.de
SUMMARY:10. und 11.05.25   Mädels Wochenende in Celle
DESCRIPTION:Achtung! Diese Reise ist bereits ausgebucht\, evtl. könnt ihr über die Warteliste noch nachrücken. \nIm Mai\, am 10./ 11.2025 haben wir uns etwas richtig Schönes für unsere LandFrauen überlegt. Ein Mädels- Wochenende in Celle. Diese 2- Tagestour startet am Samstag um 8:00 Uhr bei der Sporthalle in Lilienthal\, Frankenburg mit einem komfortablen Reisebus (Reisedienst von Rahden). \nDie Unterbringung wird im “Hampton by Hilton“ in der Innenstadt sein. Auf dem Programm stehen die Schlossbesichtigung\, reichlich Zeit für eine Shopping Tour und ein tolles Abend Buffett im “Stadtpalais“. Da lassen wir es uns richtig gut gehen. Nach dem Frühstück am nächsten Morgen freuen wir uns auf eine Führung im Heilpflanzengarten\, Celle. Hier erfahren wir viel Wissenswertes für unsere Gesundheit. Ein gemeinsames Mittagessen ist auch dabei und am Nachmittag erleben wir noch ein wunderbares Event\, eine Aufführung im historischem Schlosstheater. Dieses Theater feiert in der Spielsaison 2024/25 sein 350 jähriges Jubiläum! Zurück in Lilienthal sind wir gegen 20:00 Uhr. \nKosten für dieses Komplettangebot € 259\,- pro Person im Doppelzimmer. Wenn ihr noch Information benötigt\, gerne anrufen! \nVerbindliche Anmeldungen bis zum 02.03. bei Anke Kampe Tel. 04298 41540
URL:https://www.landfrauen-stjuergen.de/event/10-und-11-05-25-maedels-wochenende-in-celle/
END:VEVENT
END:VCALENDAR