BEGIN:VCALENDAR
VERSION:2.0
PRODID:-//Landfrauen St. Jürgen - ECPv6.0.5//NONSGML v1.0//EN
CALSCALE:GREGORIAN
METHOD:PUBLISH
X-ORIGINAL-URL:https://www.landfrauen-stjuergen.de
X-WR-CALDESC:Veranstaltungen für Landfrauen St. Jürgen
REFRESH-INTERVAL;VALUE=DURATION:PT1H
X-Robots-Tag:noindex
X-PUBLISHED-TTL:PT1H
BEGIN:VTIMEZONE
TZID:Europe/Berlin
BEGIN:DAYLIGHT
TZOFFSETFROM:+0100
TZOFFSETTO:+0200
TZNAME:CEST
DTSTART:20250330T010000
END:DAYLIGHT
BEGIN:STANDARD
TZOFFSETFROM:+0200
TZOFFSETTO:+0100
TZNAME:CET
DTSTART:20251026T010000
END:STANDARD
END:VTIMEZONE
BEGIN:VEVENT
DTSTART;TZID=Europe/Berlin:20250426T093000
DTEND;TZID=Europe/Berlin:20250426T123000
DTSTAMP:20260421T153347
CREATED:20250316T170226Z
LAST-MODIFIED:20250316T170521Z
UID:4352-1745659800-1745670600@www.landfrauen-stjuergen.de
SUMMARY:26.04.25   Frühstück mit einer Lesung von Christa Picard
DESCRIPTION:Bei unserem Frühstück in der Gaststätte Rohdenburg\, Trupermoor werden wir nicht nur mit einem leckeren Frühstück verwöhnt. Es gibt auch Genuss für die Ohren. Die Schriftstellerin Christa Picard und ihr Ehemann lesen aus verschiedenen Romanen. Inspiriert durch den Wohnort der Schriftstellerin in Worpswede\, Teufelsmoor sind einige Krimis entstanden. Aber Frau Picard hat auch ein Buch über Krieg und Vertreibung in der Familie der Großmutter geschrieben. In den Romanen greift sie auf ihre Erfahrungen als Psychologin zurück. Bestimmt eine spannende Lesung. Kosten insg. € 20\,- \nAnmeldungen bis zum 20.04 bei Gisela Weiland 04298 31325
URL:https://www.landfrauen-stjuergen.de/event/26-04-25-fruehstueck-mit-einer-lesung-von-christa-picard/
LOCATION:Rohdenburgs Gaststätte\, Trupermoorer Landstr.\, Lilienthal\, 28865
END:VEVENT
END:VCALENDAR