BEGIN:VCALENDAR
VERSION:2.0
PRODID:-//Landfrauen St. Jürgen - ECPv6.0.5//NONSGML v1.0//EN
CALSCALE:GREGORIAN
METHOD:PUBLISH
X-ORIGINAL-URL:https://www.landfrauen-stjuergen.de
X-WR-CALDESC:Veranstaltungen für Landfrauen St. Jürgen
REFRESH-INTERVAL;VALUE=DURATION:PT1H
X-Robots-Tag:noindex
X-PUBLISHED-TTL:PT1H
BEGIN:VTIMEZONE
TZID:Europe/Berlin
BEGIN:DAYLIGHT
TZOFFSETFROM:+0100
TZOFFSETTO:+0200
TZNAME:CEST
DTSTART:20250330T010000
END:DAYLIGHT
BEGIN:STANDARD
TZOFFSETFROM:+0200
TZOFFSETTO:+0100
TZNAME:CET
DTSTART:20251026T010000
END:STANDARD
END:VTIMEZONE
BEGIN:VEVENT
DTSTART;TZID=Europe/Berlin:20250329T130000
DTEND;TZID=Europe/Berlin:20250329T170000
DTSTAMP:20260421T170702
CREATED:20250201T091402Z
LAST-MODIFIED:20250201T091402Z
UID:4291-1743253200-1743267600@www.landfrauen-stjuergen.de
SUMMARY:29.03.25   Hofbesichtigung
DESCRIPTION:Hofbesichtigung bei der Familie Warnken in der Huxfelder Str. 46a. Der Betrieb betreut neben der Landwirtschaft auch eine Ferienhausanlage u.a. mit Tiny Häusern. Ferien auf dem Bauernhof ist eine interessante Alternative zur klassischen Landwirtschaft. \nEnde März ist es vielleicht noch etwas kühl\, aber wer möchte kann natürlich auch mit dem Fahrrad dieses Ziel erreichen. Gemütlicher Ausklang im Dorfgemeinschaftshaus bei Kaffee und Kuchen Kosten: € 6\,- \nAnmeldungen bis zum 22.03.25 bei Hanna Grube 04792 950624
URL:https://www.landfrauen-stjuergen.de/event/29-03-25-hofbesichtigung/
LOCATION:Hof Warnken\, Huxfelder Str. 46a\, Grasberg\, 28879
END:VEVENT
END:VCALENDAR