BEGIN:VCALENDAR
VERSION:2.0
PRODID:-//Landfrauen St. Jürgen - ECPv6.0.5//NONSGML v1.0//EN
CALSCALE:GREGORIAN
METHOD:PUBLISH
X-WR-CALNAME:Landfrauen St. Jürgen
X-ORIGINAL-URL:https://www.landfrauen-stjuergen.de
X-WR-CALDESC:Veranstaltungen für Landfrauen St. Jürgen
REFRESH-INTERVAL;VALUE=DURATION:PT1H
X-Robots-Tag:noindex
X-PUBLISHED-TTL:PT1H
BEGIN:VTIMEZONE
TZID:Europe/Berlin
BEGIN:DAYLIGHT
TZOFFSETFROM:+0100
TZOFFSETTO:+0200
TZNAME:CEST
DTSTART:20250330T010000
END:DAYLIGHT
BEGIN:STANDARD
TZOFFSETFROM:+0200
TZOFFSETTO:+0100
TZNAME:CET
DTSTART:20251026T010000
END:STANDARD
END:VTIMEZONE
BEGIN:VEVENT
DTSTART;TZID=Europe/Berlin:20250304T180000
DTEND;TZID=Europe/Berlin:20250304T213000
DTSTAMP:20260421T170442
CREATED:20250201T085839Z
LAST-MODIFIED:20250201T085839Z
UID:4289-1741111200-1741123800@www.landfrauen-stjuergen.de
SUMMARY:04.03.25   J I L - Frühlingsfloristik
DESCRIPTION:Die jungen LandFrauen St. Jürgen treffen sich bei der Floristin Inge Hashagen in Frankenburg. Inge zaubert mit Naturmaterialien immer sehr schöne Dekorationen. Diesmal ist das Thema Frühlingsfloristik. Ein sehr beliebter Work Shop\, deshalb schnell anmelden. Die Plätze sind begrenzt. Kosten € 20\,- zuzüglich Material \nAnmeldungen bis zum 18.02.25 bei Doreen Lindemann 0174 4169523 \n  \n 
URL:https://www.landfrauen-stjuergen.de/event/04-03-25-j-i-l-fruehlingsfloristik/
LOCATION:Stilblüte Inh. Inge Hashagen\, Frankenburg 60\, Lilienthal\, 28865
END:VEVENT
END:VCALENDAR