BEGIN:VCALENDAR
VERSION:2.0
PRODID:-//Landfrauen St. Jürgen - ECPv6.0.5//NONSGML v1.0//EN
CALSCALE:GREGORIAN
METHOD:PUBLISH
X-ORIGINAL-URL:https://www.landfrauen-stjuergen.de
X-WR-CALDESC:Veranstaltungen für Landfrauen St. Jürgen
REFRESH-INTERVAL;VALUE=DURATION:PT1H
X-Robots-Tag:noindex
X-PUBLISHED-TTL:PT1H
BEGIN:VTIMEZONE
TZID:Europe/Berlin
BEGIN:DAYLIGHT
TZOFFSETFROM:+0100
TZOFFSETTO:+0200
TZNAME:CEST
DTSTART:20250330T010000
END:DAYLIGHT
BEGIN:STANDARD
TZOFFSETFROM:+0200
TZOFFSETTO:+0100
TZNAME:CET
DTSTART:20251026T010000
END:STANDARD
END:VTIMEZONE
BEGIN:VEVENT
DTSTART;TZID=Europe/Berlin:20250218T190000
DTEND;TZID=Europe/Berlin:20250218T213000
DTSTAMP:20260421T182806
CREATED:20250121T173431Z
LAST-MODIFIED:20250121T173431Z
UID:4285-1739905200-1739914200@www.landfrauen-stjuergen.de
SUMMARY:18.02.25   J I L- St. Jürgen   "Bier Call"
DESCRIPTION:J I L – St. Jürgen treffen sich im Pfiffikus\, Lilienthal “Bier Call“ \nAnmeldungen bis zum 04.02. bei Doreen Lindemann 0174 4169523 \n 
URL:https://www.landfrauen-stjuergen.de/event/18-02-25-j-i-l-st-juergen-bier-call/
LOCATION:Bierpraxis Dr. Pfiffikus\, Moorhauser Landstr. 14\, Lilienthal\, 28865
END:VEVENT
END:VCALENDAR