BEGIN:VCALENDAR
VERSION:2.0
PRODID:-//Landfrauen St. Jürgen - ECPv6.0.5//NONSGML v1.0//EN
CALSCALE:GREGORIAN
METHOD:PUBLISH
X-WR-CALNAME:Landfrauen St. Jürgen
X-ORIGINAL-URL:https://www.landfrauen-stjuergen.de
X-WR-CALDESC:Veranstaltungen für Landfrauen St. Jürgen
REFRESH-INTERVAL;VALUE=DURATION:PT1H
X-Robots-Tag:noindex
X-PUBLISHED-TTL:PT1H
BEGIN:VTIMEZONE
TZID:Europe/Berlin
BEGIN:DAYLIGHT
TZOFFSETFROM:+0100
TZOFFSETTO:+0200
TZNAME:CEST
DTSTART:20250330T010000
END:DAYLIGHT
BEGIN:STANDARD
TZOFFSETFROM:+0200
TZOFFSETTO:+0100
TZNAME:CET
DTSTART:20251026T010000
END:STANDARD
END:VTIMEZONE
BEGIN:VEVENT
DTSTART;TZID=Europe/Berlin:20250206T183000
DTEND;TZID=Europe/Berlin:20250206T191500
DTSTAMP:20260421T182001
CREATED:20250121T171311Z
LAST-MODIFIED:20250121T171721Z
UID:4276-1738866600-1738869300@www.landfrauen-stjuergen.de
SUMMARY:06.02. bis 13.03.25 J I L Sportangebot
DESCRIPTION:J I L – Sportangebot im “fit mit fun“\, Worpswede \nBeweglichkeit\, Krafttraining\, Mobilisation\, Rücken\, Yoga und Entspannung…da ist für jede von euch etwas dabei\, Hauptsache in Bewegung bleiben! \nKosten: 90 € p. P. für fünf Einheiten in 5 Wochen (letzter Termin am 13.03.25) \nAnmeldung bei Doreen Lindemann 0174 4169523
URL:https://www.landfrauen-stjuergen.de/event/06-02-bis-13-03-25-j-i-l-sportangebot/
LOCATION:fit mit fun\, An der Bahn 64\, Worpswede\, 27726
END:VEVENT
END:VCALENDAR