BEGIN:VCALENDAR
VERSION:2.0
PRODID:-//Landfrauen St. Jürgen - ECPv6.0.5//NONSGML v1.0//EN
CALSCALE:GREGORIAN
METHOD:PUBLISH
X-ORIGINAL-URL:https://www.landfrauen-stjuergen.de
X-WR-CALDESC:Veranstaltungen für Landfrauen St. Jürgen
REFRESH-INTERVAL;VALUE=DURATION:PT1H
X-Robots-Tag:noindex
X-PUBLISHED-TTL:PT1H
BEGIN:VTIMEZONE
TZID:Europe/Berlin
BEGIN:DAYLIGHT
TZOFFSETFROM:+0100
TZOFFSETTO:+0200
TZNAME:CEST
DTSTART:20250330T010000
END:DAYLIGHT
BEGIN:STANDARD
TZOFFSETFROM:+0200
TZOFFSETTO:+0100
TZNAME:CET
DTSTART:20251026T010000
END:STANDARD
END:VTIMEZONE
BEGIN:VEVENT
DTSTART;TZID=Europe/Berlin:20250128T190000
DTEND;TZID=Europe/Berlin:20250128T213000
DTSTAMP:20260421T182138
CREATED:20241220T164957Z
LAST-MODIFIED:20241220T164957Z
UID:4261-1738090800-1738099800@www.landfrauen-stjuergen.de
SUMMARY:28.01.25   Einfach mal spielen!
DESCRIPTION:Manchmal hat die Familie keine Lust auf Spiele\, oder man lebt allein\,  bei unserer Gruppe findet man immer nette Spielpartner!  Wir treffen uns im Obergeschoß der Sporthalle Frankenburg. Spiele dürfen gerne mitgebracht werden. \nAnmeldungen bei Anke Kampe 04298 41540
URL:https://www.landfrauen-stjuergen.de/event/28-01-25-einfach-mal-spielen/
LOCATION:Sporthalle Frankenburg\, Frankenburg 70\, 28865 Lilienthal
END:VEVENT
END:VCALENDAR