BEGIN:VCALENDAR
VERSION:2.0
PRODID:-//Landfrauen St. Jürgen - ECPv6.0.5//NONSGML v1.0//EN
CALSCALE:GREGORIAN
METHOD:PUBLISH
X-WR-CALNAME:Landfrauen St. Jürgen
X-ORIGINAL-URL:https://www.landfrauen-stjuergen.de
X-WR-CALDESC:Veranstaltungen für Landfrauen St. Jürgen
REFRESH-INTERVAL;VALUE=DURATION:PT1H
X-Robots-Tag:noindex
X-PUBLISHED-TTL:PT1H
BEGIN:VTIMEZONE
TZID:Europe/Berlin
BEGIN:DAYLIGHT
TZOFFSETFROM:+0100
TZOFFSETTO:+0200
TZNAME:CEST
DTSTART:20250330T010000
END:DAYLIGHT
BEGIN:STANDARD
TZOFFSETFROM:+0200
TZOFFSETTO:+0100
TZNAME:CET
DTSTART:20251026T010000
END:STANDARD
END:VTIMEZONE
BEGIN:VEVENT
DTSTART;TZID=Europe/Berlin:20250114T190000
DTEND;TZID=Europe/Berlin:20250114T213000
DTSTAMP:20260421T192628
CREATED:20241220T162823Z
LAST-MODIFIED:20241220T163324Z
UID:4254-1736881200-1736890200@www.landfrauen-stjuergen.de
SUMMARY:14. 01.25   Spendenaktion "Grüne Socken"
DESCRIPTION:Eine Spendenaktion zur Unterstützung für Patientinnen mit Eierstockkrebs. Socken stricken und spenden! \nWir beginnen das neue Jahr mit Socken stricken für den guten Zweck\, eine tolle Idee. Patientinnen die Chemo Therapie bekommen leiden häufig unter kalten Füßen\, weil die Nerven geschädigt werden. Warme Socken können da helfen. Und warum grüne Socken? Grün ist die Hoffnung und Hoffnung ist bei einer Krebserkrankung enorm wichtig. \nTreffpunkt ist das “Weinhaus“ auf dem Hof Michels\, Frankenburg. Auch wer noch nie Socken gestrickt hat darf gerne teilnehmen. Wir zeigen\, wie es geht und besorgen die Wolle. Es werden vermutlich noch Folgetermine benötigt\, das entscheidet die Gruppe vor Ort. Nähere Infos bei Anmeldung. \nAnmeldungen bis zum 10.01. bei Heike Michels 04298 41166
URL:https://www.landfrauen-stjuergen.de/event/14-01-24-spendenaktion-gruene-socken/
LOCATION:Hof Michels\, Frankeburg 41\, Lilienthal\, 28865\, Deutschland
END:VEVENT
END:VCALENDAR