BEGIN:VCALENDAR
VERSION:2.0
PRODID:-//Landfrauen St. Jürgen - ECPv6.0.5//NONSGML v1.0//EN
CALSCALE:GREGORIAN
METHOD:PUBLISH
X-ORIGINAL-URL:https://www.landfrauen-stjuergen.de
X-WR-CALDESC:Veranstaltungen für Landfrauen St. Jürgen
REFRESH-INTERVAL;VALUE=DURATION:PT1H
X-Robots-Tag:noindex
X-PUBLISHED-TTL:PT1H
BEGIN:VTIMEZONE
TZID:Europe/Berlin
BEGIN:DAYLIGHT
TZOFFSETFROM:+0100
TZOFFSETTO:+0200
TZNAME:CEST
DTSTART:20240331T010000
END:DAYLIGHT
BEGIN:STANDARD
TZOFFSETFROM:+0200
TZOFFSETTO:+0100
TZNAME:CET
DTSTART:20241027T010000
END:STANDARD
END:VTIMEZONE
BEGIN:VEVENT
DTSTART;VALUE=DATE:20241214
DTEND;VALUE=DATE:20241215
DTSTAMP:20260421T230351
CREATED:20241014T094951Z
LAST-MODIFIED:20241014T095041Z
UID:4118-1734134400-1734220799@www.landfrauen-stjuergen.de
SUMMARY:14.12.24   Christa Mayer organisiert eine Busfahrt zum  Weihnachtsmarkt in Bourtange/ NL
DESCRIPTION:Die Fahrten  zum Weihnachtsmarkt  sind jedes Jahr ein schönes Event in der Adventszeit \nUm 7:30 Uhr startet der Bus in Lilienthal /Mitte Haltestelle (Esso Tankstelle). \nEs geht diesmal nach Bourtange/NL Kosten € 28\,-/ Person (bei 30 Personen) \nNähere Infos und Anmeldungen bei Christa Mayer Tel. 0 42 98- 24 47
URL:https://www.landfrauen-stjuergen.de/event/14-12-24-christa-mayer-organisiert-eine-busfahrt-zum-weihnachtsmarkt-in-bourtange-nl/
END:VEVENT
END:VCALENDAR