BEGIN:VCALENDAR
VERSION:2.0
PRODID:-//Landfrauen St. Jürgen - ECPv6.0.5//NONSGML v1.0//EN
CALSCALE:GREGORIAN
METHOD:PUBLISH
X-ORIGINAL-URL:https://www.landfrauen-stjuergen.de
X-WR-CALDESC:Veranstaltungen für Landfrauen St. Jürgen
REFRESH-INTERVAL;VALUE=DURATION:PT1H
X-Robots-Tag:noindex
X-PUBLISHED-TTL:PT1H
BEGIN:VTIMEZONE
TZID:Europe/Berlin
BEGIN:DAYLIGHT
TZOFFSETFROM:+0100
TZOFFSETTO:+0200
TZNAME:CEST
DTSTART:20240331T010000
END:DAYLIGHT
BEGIN:STANDARD
TZOFFSETFROM:+0200
TZOFFSETTO:+0100
TZNAME:CET
DTSTART:20241027T010000
END:STANDARD
END:VTIMEZONE
BEGIN:VEVENT
DTSTART;TZID=Europe/Berlin:20241205T180000
DTEND;TZID=Europe/Berlin:20241205T210000
DTSTAMP:20260421T230352
CREATED:20241014T093431Z
LAST-MODIFIED:20241014T093959Z
UID:4114-1733421600-1733432400@www.landfrauen-stjuergen.de
SUMMARY:05.12.24   Adventsfeier organisiert von den Kleinmoorer LandFrauen
DESCRIPTION:Ganz besonders freuen wir uns auf die Adventsfeier am 05.12. um 18:00 Uhr. Diesmal haben sich die Kleinmoorer LandFrauen ein Programm für euch überlegt. Lasst euch überraschen! \nFür den festlichen Rahmen sorgt Ilona Becker mit dem liebevoll geschmückten Saal. Und die Küche kümmert sich um euer leibliches Wohl\, Essen ist bestellt. \nAnmeldungen bis zum 28.11. bei Marlene Wendelken Tel. 0 42 98- 3 19 79 \n 
URL:https://www.landfrauen-stjuergen.de/event/05-12-24-adventsfeier-organisiert-von-den-kleinmoorer-landfrauen/
LOCATION:Beckers Restaurant\, Frankenburg 27\, Lilienthal\, 28865
END:VEVENT
END:VCALENDAR