BEGIN:VCALENDAR
VERSION:2.0
PRODID:-//Landfrauen St. Jürgen - ECPv6.0.5//NONSGML v1.0//EN
CALSCALE:GREGORIAN
METHOD:PUBLISH
X-ORIGINAL-URL:https://www.landfrauen-stjuergen.de
X-WR-CALDESC:Veranstaltungen für Landfrauen St. Jürgen
REFRESH-INTERVAL;VALUE=DURATION:PT1H
X-Robots-Tag:noindex
X-PUBLISHED-TTL:PT1H
BEGIN:VTIMEZONE
TZID:Europe/Berlin
BEGIN:DAYLIGHT
TZOFFSETFROM:+0100
TZOFFSETTO:+0200
TZNAME:CEST
DTSTART:20240331T010000
END:DAYLIGHT
BEGIN:STANDARD
TZOFFSETFROM:+0200
TZOFFSETTO:+0100
TZNAME:CET
DTSTART:20241027T010000
END:STANDARD
END:VTIMEZONE
BEGIN:VEVENT
DTSTART;TZID=Europe/Berlin:20241127T190000
DTEND;TZID=Europe/Berlin:20241127T210000
DTSTAMP:20260421T230351
CREATED:20241014T092659Z
LAST-MODIFIED:20241014T092659Z
UID:4111-1732734000-1732741200@www.landfrauen-stjuergen.de
SUMMARY:27.11.24   Beisammensein am Feuerkorb
DESCRIPTION:Auch in diesem Jahr wollen wir auf einen geselligen Abend am Feuerkorb nicht verzichten. Gerne erinnern wir uns an das gemütliche Beisammensein auf dem Hof Michels.  In diesem Jahr treffen wir uns bei Helga und Friedel Wendelken\, Müllerweg 58. Eure Ehemänner und Partner sind dabei natürlich auch herzlich willkommen. Für das leibliche Wohl und Getränke wird gesorgt.  Kosten € 8\,- \nAnmeldungen bis zum 23.11. bei Anke Kampe Tel. 0 42 98- 4 15 40
URL:https://www.landfrauen-stjuergen.de/event/27-11-24-beisammensein-am-feuerkorb/
LOCATION:Hof Wendelken\, Müllerweg 58\, Lilienthal
END:VEVENT
END:VCALENDAR