BEGIN:VCALENDAR
VERSION:2.0
PRODID:-//Landfrauen St. Jürgen - ECPv6.0.5//NONSGML v1.0//EN
CALSCALE:GREGORIAN
METHOD:PUBLISH
X-ORIGINAL-URL:https://www.landfrauen-stjuergen.de
X-WR-CALDESC:Veranstaltungen für Landfrauen St. Jürgen
REFRESH-INTERVAL;VALUE=DURATION:PT1H
X-Robots-Tag:noindex
X-PUBLISHED-TTL:PT1H
BEGIN:VTIMEZONE
TZID:Europe/Berlin
BEGIN:DAYLIGHT
TZOFFSETFROM:+0100
TZOFFSETTO:+0200
TZNAME:CEST
DTSTART:20240331T010000
END:DAYLIGHT
BEGIN:STANDARD
TZOFFSETFROM:+0200
TZOFFSETTO:+0100
TZNAME:CET
DTSTART:20241027T010000
END:STANDARD
END:VTIMEZONE
BEGIN:VEVENT
DTSTART;TZID=Europe/Berlin:20241107T190000
DTEND;TZID=Europe/Berlin:20241107T213000
DTSTAMP:20260422T001441
CREATED:20241014T082721Z
LAST-MODIFIED:20241014T082721Z
UID:4109-1731006000-1731015000@www.landfrauen-stjuergen.de
SUMMARY:07.11.24   Mitgliederversammlung mit Büchertausch- Aktion
DESCRIPTION:Am 07.11.2024 findet wieder unsere jährliche Mitgliederversammlung mit gemeinsamen Essen statt. In diesem Jahr werden die zweite Kassenführerin\, eine Kassenprüferin und eine neue Beisitzerin im Vorstand gewählt. Um dem Abend nach Wahlen\, Zahlen und Berichten etwas mehr abzugewinnen haben wir eine kleine Büchertausch- Aktion geplant. \nDenn wer hat sie nicht? Aktuelle Bücher\, gerade gekauft oder geschenkt bekommen\, \ngelesen ….und dann?  Dann stehen Sie da! \nDas wäre dann die Gelegenheit sie an diesem Abend gegen „neue“ einzutauschen. \n  \nVon den Notfalldosen\, die wir bei der letzten Mitgliederversammlung vorgestellt haben\, sind noch einige käuflich zu erwerben. \nÜber Christa Mayer Tel. 0 42 98-24 47 Sie bringt die Dosen auch zur Mitgliederversammlung mit.
URL:https://www.landfrauen-stjuergen.de/event/07-11-24-mitgliederversammlung-mit-buechertausch-aktion/
LOCATION:Beckers Restaurant\, Frankenburg 27\, Lilienthal\, 28865
END:VEVENT
END:VCALENDAR