BEGIN:VCALENDAR
VERSION:2.0
PRODID:-//Landfrauen St. Jürgen - ECPv6.0.5//NONSGML v1.0//EN
CALSCALE:GREGORIAN
METHOD:PUBLISH
X-ORIGINAL-URL:https://www.landfrauen-stjuergen.de
X-WR-CALDESC:Veranstaltungen für Landfrauen St. Jürgen
REFRESH-INTERVAL;VALUE=DURATION:PT1H
X-Robots-Tag:noindex
X-PUBLISHED-TTL:PT1H
BEGIN:VTIMEZONE
TZID:Europe/Berlin
BEGIN:DAYLIGHT
TZOFFSETFROM:+0100
TZOFFSETTO:+0200
TZNAME:CEST
DTSTART:20240331T010000
END:DAYLIGHT
BEGIN:STANDARD
TZOFFSETFROM:+0200
TZOFFSETTO:+0100
TZNAME:CET
DTSTART:20241027T010000
END:STANDARD
END:VTIMEZONE
BEGIN:VEVENT
DTSTART;TZID=Europe/Berlin:20241104T193000
DTEND;TZID=Europe/Berlin:20241104T213000
DTSTAMP:20260422T001355
CREATED:20241014T082127Z
LAST-MODIFIED:20241014T082127Z
UID:4106-1730748600-1730755800@www.landfrauen-stjuergen.de
SUMMARY:04.11.24   J I L - "Natürlich Advent"
DESCRIPTION:ein kreativer Abend bei Anja Behrens von “Moorflowers” \nnähere Infos kommen über die Whats App- Gruppe \nAnmeldungen bei Doreen Lindemann\, gerne auch per Whats App 0174- 41 69 523
URL:https://www.landfrauen-stjuergen.de/event/04-11-24-j-i-l-natuerlich-advent/
LOCATION:Moorflowers\, Am Saatmoor 77\, Lilienthal\, 28865\, Deutschland
END:VEVENT
END:VCALENDAR