BEGIN:VCALENDAR
VERSION:2.0
PRODID:-//Landfrauen St. Jürgen - ECPv6.0.5//NONSGML v1.0//EN
CALSCALE:GREGORIAN
METHOD:PUBLISH
X-ORIGINAL-URL:https://www.landfrauen-stjuergen.de
X-WR-CALDESC:Veranstaltungen für Landfrauen St. Jürgen
REFRESH-INTERVAL;VALUE=DURATION:PT1H
X-Robots-Tag:noindex
X-PUBLISHED-TTL:PT1H
BEGIN:VTIMEZONE
TZID:Europe/Berlin
BEGIN:DAYLIGHT
TZOFFSETFROM:+0100
TZOFFSETTO:+0200
TZNAME:CEST
DTSTART:20240331T010000
END:DAYLIGHT
BEGIN:STANDARD
TZOFFSETFROM:+0200
TZOFFSETTO:+0100
TZNAME:CET
DTSTART:20241027T010000
END:STANDARD
END:VTIMEZONE
BEGIN:VEVENT
DTSTART;VALUE=DATE:20241102
DTEND;VALUE=DATE:20241103
DTSTAMP:20260422T001421
CREATED:20240623T065846Z
LAST-MODIFIED:20240920T064528Z
UID:3923-1730505600-1730591999@www.landfrauen-stjuergen.de
SUMMARY:02.11.24   "Winterträume" Tagesfahrt nach Eldingen (in der Nähe von Celle)
DESCRIPTION:Christa Mayer hat es mal wieder in die Hand genommen…super! In der Vorweihnachtszeit hat sie für uns eine Busfahrt nach Eldingen (in der Nähe von Celle) organisiert. Am Samstag\, 02.11.24 verzaubern uns die “Winterträume“ auf Schloss Eldingen. Außergewöhnlich schöne Dekoartikel und Kunsthandwerk erwarten uns in toller Atmosphäre. \nAbfahrt um 8:00 Uhr bei der Feuerwehr\, Frankenburg/ 8:15 Uhr ab Falkenberger Kreisel/ \n8:30 Uhr Lilienthal Mitte Haltestelle (Esso Tankstelle) Rückfahrt 17:00 Uhr \nKosten € 33\,-/ Person (bei 50 Personen) \nAnmeldungen bei Christa Mayer Tel. 0 42 98- 24 47
URL:https://www.landfrauen-stjuergen.de/event/02-11-24-wintertraeume-tagesfahrt-nach-eldingen-in-der-naehe-von-celle/
END:VEVENT
END:VCALENDAR