BEGIN:VCALENDAR
VERSION:2.0
PRODID:-//Landfrauen St. Jürgen - ECPv6.0.5//NONSGML v1.0//EN
CALSCALE:GREGORIAN
METHOD:PUBLISH
X-WR-CALNAME:Landfrauen St. Jürgen
X-ORIGINAL-URL:https://www.landfrauen-stjuergen.de
X-WR-CALDESC:Veranstaltungen für Landfrauen St. Jürgen
REFRESH-INTERVAL;VALUE=DURATION:PT1H
X-Robots-Tag:noindex
X-PUBLISHED-TTL:PT1H
BEGIN:VTIMEZONE
TZID:Europe/Berlin
BEGIN:DAYLIGHT
TZOFFSETFROM:+0100
TZOFFSETTO:+0200
TZNAME:CEST
DTSTART:20240331T010000
END:DAYLIGHT
BEGIN:STANDARD
TZOFFSETFROM:+0200
TZOFFSETTO:+0100
TZNAME:CET
DTSTART:20241027T010000
END:STANDARD
END:VTIMEZONE
BEGIN:VEVENT
DTSTART;TZID=Europe/Berlin:20241009T180000
DTEND;TZID=Europe/Berlin:20241009T210000
DTSTAMP:20260422T012609
CREATED:20240920T061322Z
LAST-MODIFIED:20240920T063704Z
UID:4038-1728496800-1728507600@www.landfrauen-stjuergen.de
SUMMARY:09.10.24   Herbst/ Winter- Floristik
DESCRIPTION:Weil der Kurs am o8. 10. bereits voll ist\, hat Inge uns noch  diesen zweiten Abend angeboten. Mit dem gleichen Inhalt\, wie am 08.10. wird auch am 09.10. wunderschöne Herbst/ Winterliche Floristik gestaltet. Bei Inge Hashagen in Frankenburg. Kosten € 15\,- + Material \nAnmeldungen bis zum 04.10. bei Anke Kampe Tel. 0 42 98-4 15 40 oder per WhatsApp
URL:https://www.landfrauen-stjuergen.de/event/09-10-24-herbst-winterliche-floristik/
LOCATION:Stilblüte Inh. Inge Hashagen\, Frankenburg 60\, Lilienthal\, 28865
END:VEVENT
END:VCALENDAR