BEGIN:VCALENDAR
VERSION:2.0
PRODID:-//Landfrauen St. Jürgen - ECPv6.0.5//NONSGML v1.0//EN
CALSCALE:GREGORIAN
METHOD:PUBLISH
X-WR-CALNAME:Landfrauen St. Jürgen
X-ORIGINAL-URL:https://www.landfrauen-stjuergen.de
X-WR-CALDESC:Veranstaltungen für Landfrauen St. Jürgen
REFRESH-INTERVAL;VALUE=DURATION:PT1H
X-Robots-Tag:noindex
X-PUBLISHED-TTL:PT1H
BEGIN:VTIMEZONE
TZID:Europe/Berlin
BEGIN:DAYLIGHT
TZOFFSETFROM:+0100
TZOFFSETTO:+0200
TZNAME:CEST
DTSTART:20240331T010000
END:DAYLIGHT
BEGIN:STANDARD
TZOFFSETFROM:+0200
TZOFFSETTO:+0100
TZNAME:CET
DTSTART:20241027T010000
END:STANDARD
END:VTIMEZONE
BEGIN:VEVENT
DTSTART;TZID=Europe/Berlin:20240919T174500
DTEND;TZID=Europe/Berlin:20240919T203000
DTSTAMP:20260422T023118
CREATED:20240622T075640Z
LAST-MODIFIED:20240622T080558Z
UID:3900-1726767900-1726777800@www.landfrauen-stjuergen.de
SUMMARY:19.09.24    Minigolf im Dunkeln
DESCRIPTION:Ebenfalls im September geht es zum Minigolf im Dunkeln. Wir fahren in Fahrgemeinschaften zum Schwarzlichthof\, Cuxhavener Str. 7\, 28217 Bremen. In kleinen Gruppen versuchen wir unser Glück. Auch wenn ihr Minigolf bereits kennt\, dies wird eine neue\, witzige Erfahrung. Einlochen ist natürlich immer schön\, aber wichtiger ist uns der Spaß.  Wir freuen uns auf ein fröhliches Miteinander. Ein Durchgang dauert ca. 1 1/2 bis 2 Stunden. Kosten € 13\,50. \nAnmeldungen bis zum 12.09.24 bei Anke Pientka- Otten Tel. 0 42 98- 4 11 81 oder 0151- 55 21 66 21 auch per Whats App Bitte bei Anmeldung eine Info\, wer fahren kann und wer lieber mitgenommen werden möchte. \n 
URL:https://www.landfrauen-stjuergen.de/event/19-09-24-minigolf-im-dunkeln/
LOCATION:Schwarzlichthof\, Cuxhavener Str. 7\, Bremen\, 28217
END:VEVENT
END:VCALENDAR