BEGIN:VCALENDAR
VERSION:2.0
PRODID:-//Landfrauen St. Jürgen - ECPv6.0.5//NONSGML v1.0//EN
CALSCALE:GREGORIAN
METHOD:PUBLISH
X-WR-CALNAME:Landfrauen St. Jürgen
X-ORIGINAL-URL:https://www.landfrauen-stjuergen.de
X-WR-CALDESC:Veranstaltungen für Landfrauen St. Jürgen
REFRESH-INTERVAL;VALUE=DURATION:PT1H
X-Robots-Tag:noindex
X-PUBLISHED-TTL:PT1H
BEGIN:VTIMEZONE
TZID:Europe/Berlin
BEGIN:DAYLIGHT
TZOFFSETFROM:+0100
TZOFFSETTO:+0200
TZNAME:CEST
DTSTART:20240331T010000
END:DAYLIGHT
BEGIN:STANDARD
TZOFFSETFROM:+0200
TZOFFSETTO:+0100
TZNAME:CET
DTSTART:20241027T010000
END:STANDARD
END:VTIMEZONE
BEGIN:VEVENT
DTSTART;TZID=Europe/Berlin:20240816T190000
DTEND;TZID=Europe/Berlin:20240816T213000
DTSTAMP:20260422T033356
CREATED:20240622T082058Z
LAST-MODIFIED:20240622T082253Z
UID:3908-1723834800-1723843800@www.landfrauen-stjuergen.de
SUMMARY:16.08.24   J I L   "Get together"
DESCRIPTION:  \nDie jungen Landmädels haben sich am 14.05. im Landjugendhaus getroffen und hatten einen sehr netten Abend. “Get together“ soll ein regelmäßiger Termin werden. Einfach mal quatschen\, sich austauschen und vieles mehr. \nNächste Termine: \nFreitag\, 16.08.24 um 19:00 Uhr auf dem Lilienhof in Worphausen (Klönabend zusammen mit allen LandFrauen) Der Vorstand mixt leckere Coctails und ihr bringt eine Kleinigkeit zum Essen mit\, so haben wir ein buntes Buffet und für alle ist etwas dabei. Bei gutem Wetter können wir auf der großen Terrasse sitzen. Wir freuen uns auf einen schönen Abend mit euch! \nFreitag\, 06.09.24  um 19:30 Uhr im Landjugendhaus bei der Turnhalle/              Feuerwehrhaus in Frankenburg. \nAnmeldungen bei Doreen Lindemann\, auch per Whats App 0174 – 41 69 523
URL:https://www.landfrauen-stjuergen.de/event/16-08-24-j-i-l-get-together/
LOCATION:Lilienhof\, Worphauser Landstr. 26b\, Lilienthal\, 28865
END:VEVENT
BEGIN:VEVENT
DTSTART;TZID=Europe/Berlin:20240816T190000
DTEND;TZID=Europe/Berlin:20240816T220000
DTSTAMP:20260422T033356
CREATED:20240622T073609Z
LAST-MODIFIED:20240628T162919Z
UID:3895-1723834800-1723845600@www.landfrauen-stjuergen.de
SUMMARY:16.08.24   Klönabend auf dem "Lilienhof"
DESCRIPTION:Ein Abend nur für Euch! Klönabend auf dem “Lilienhof”\, Worphausen. Wir laden euch zu einem lauschigen Sommerabend ein. Der Vorstand mixt leckere Cocktails und ihr bringt eine Kleinigkeit zum Essen mit\, so haben wir ein buntes Buffet und für alle ist etwas dabei. Bei gutem Wetter können wir auf der großen Terrasse sitzen. Wir freuen uns auf einen schönen Abend mit euch! Dazu sind auch die Jungen LandFrauen herzlich eingeladen. \nAchtung\, es ist jetzt der 16.08.24 anders als im Jahresprogramm angekündigt. \nAnmeldungen bis zum 12.08. bei Heike Michels Tel. 0 42 98- 4 11 66
URL:https://www.landfrauen-stjuergen.de/event/16-08-24-kloenabend-auf-dem-lilienhof/
LOCATION:Lilienhof\, Worphauser Landstr. 26b\, Lilienthal\, 28865
END:VEVENT
END:VCALENDAR