BEGIN:VCALENDAR
VERSION:2.0
PRODID:-//Landfrauen St. Jürgen - ECPv6.0.5//NONSGML v1.0//EN
CALSCALE:GREGORIAN
METHOD:PUBLISH
X-WR-CALNAME:Landfrauen St. Jürgen
X-ORIGINAL-URL:https://www.landfrauen-stjuergen.de
X-WR-CALDESC:Veranstaltungen für Landfrauen St. Jürgen
REFRESH-INTERVAL;VALUE=DURATION:PT1H
X-Robots-Tag:noindex
X-PUBLISHED-TTL:PT1H
BEGIN:VTIMEZONE
TZID:Europe/Berlin
BEGIN:DAYLIGHT
TZOFFSETFROM:+0100
TZOFFSETTO:+0200
TZNAME:CEST
DTSTART:20240331T010000
END:DAYLIGHT
BEGIN:STANDARD
TZOFFSETFROM:+0200
TZOFFSETTO:+0100
TZNAME:CET
DTSTART:20241027T010000
END:STANDARD
END:VTIMEZONE
BEGIN:VEVENT
DTSTART;TZID=Europe/Berlin:20240730T190000
DTEND;TZID=Europe/Berlin:20240730T213000
DTSTAMP:20260422T033358
CREATED:20240622T071723Z
LAST-MODIFIED:20240622T071723Z
UID:3889-1722366000-1722375000@www.landfrauen-stjuergen.de
SUMMARY:30.07.24   Spieleabend
DESCRIPTION:Jeden letzten Dienstag im Monat findet ein Spieleabend der LandFrauen St. Jürgen statt. Treffpunkt ist das Obergeschoß der Sporthalle\, Frankenburg. \nIn kleinen Gruppen spielen wir die unterschiedlichsten Spiele. Vieles haben wir schon ausprobiert z. B. Rummikub\, Uno\, Skyjo\, Wizzard\, Triominos\, Pochen oder Kniffeln. Wir sind aber auch offen für etwas Neues. Egal\, ob du jung oder alt bist\, wenn du Spaß am Spielen hast\, komm gerne vorbei. Spiele\, Getränke oder Knabbersachen bitte gerne mitbringen. Nicht nur Mitglieder\, auch Gäste sind herzlich willkommen. \nAnmeldungen bei Anke Kampe Tel. 0 42 98- 4 15 40
URL:https://www.landfrauen-stjuergen.de/event/30-07-24-spieleabend/
LOCATION:Sporthalle Frankenburg\, Frankenburg 70\, 28865 Lilienthal
END:VEVENT
END:VCALENDAR