BEGIN:VCALENDAR
VERSION:2.0
PRODID:-//Landfrauen St. Jürgen - ECPv6.0.5//NONSGML v1.0//EN
CALSCALE:GREGORIAN
METHOD:PUBLISH
X-WR-CALNAME:Landfrauen St. Jürgen
X-ORIGINAL-URL:https://www.landfrauen-stjuergen.de
X-WR-CALDESC:Veranstaltungen für Landfrauen St. Jürgen
REFRESH-INTERVAL;VALUE=DURATION:PT1H
X-Robots-Tag:noindex
X-PUBLISHED-TTL:PT1H
BEGIN:VTIMEZONE
TZID:Europe/Berlin
BEGIN:DAYLIGHT
TZOFFSETFROM:+0100
TZOFFSETTO:+0200
TZNAME:CEST
DTSTART:20240331T010000
END:DAYLIGHT
BEGIN:STANDARD
TZOFFSETFROM:+0200
TZOFFSETTO:+0100
TZNAME:CET
DTSTART:20241027T010000
END:STANDARD
END:VTIMEZONE
BEGIN:VEVENT
DTSTART;TZID=Europe/Berlin:20240712T090000
DTEND;TZID=Europe/Berlin:20240712T180000
DTSTAMP:20260424T131756
CREATED:20240623T064704Z
LAST-MODIFIED:20240623T065048Z
UID:3917-1720774800-1720807200@www.landfrauen-stjuergen.de
SUMMARY:12. bis 15.07.24    Tarmstedter Ausstellung
DESCRIPTION:Vom 12. bis 15.07.24 findet die “Tarmstedter Ausstellung“ statt. Schon lange eine Messe für uns Alle\, nicht nur für die Landwirtschaft. Die LandFrauen sind auch in diesem Jahr wieder dabei\, und betreuen einen Informationstand. Gerne vorbeischauen.
URL:https://www.landfrauen-stjuergen.de/event/12-bis-15-07-24-tarmstedter-ausstellung/
LOCATION:Tarmstedter Ausstellung\, Wendohweg\, Tarmstedt\, 27412
END:VEVENT
END:VCALENDAR