BEGIN:VCALENDAR
VERSION:2.0
PRODID:-//Landfrauen St. Jürgen - ECPv6.0.5//NONSGML v1.0//EN
CALSCALE:GREGORIAN
METHOD:PUBLISH
X-ORIGINAL-URL:https://www.landfrauen-stjuergen.de
X-WR-CALDESC:Veranstaltungen für Landfrauen St. Jürgen
REFRESH-INTERVAL;VALUE=DURATION:PT1H
X-Robots-Tag:noindex
X-PUBLISHED-TTL:PT1H
BEGIN:VTIMEZONE
TZID:Europe/Berlin
BEGIN:DAYLIGHT
TZOFFSETFROM:+0100
TZOFFSETTO:+0200
TZNAME:CEST
DTSTART:20240331T010000
END:DAYLIGHT
BEGIN:STANDARD
TZOFFSETFROM:+0200
TZOFFSETTO:+0100
TZNAME:CET
DTSTART:20241027T010000
END:STANDARD
END:VTIMEZONE
BEGIN:VEVENT
DTSTART;TZID=Europe/Berlin:20240709T091500
DTEND;TZID=Europe/Berlin:20240709T120000
DTSTAMP:20260424T132058
CREATED:20240622T065552Z
LAST-MODIFIED:20240622T065552Z
UID:3883-1720516500-1720526400@www.landfrauen-stjuergen.de
SUMMARY:09.07.24    Besichtigung ASO\, Pennigbüttel
DESCRIPTION:Am 09.07.24 fahren wir in Fahrgemeinschaften zur ASO\, Pennigbüttel. Passend zum Thema “Nachhaltigkeit“ bekommen wir einen Vortrag und eine Führung durch die Anlage. Ca. 2 bis 2 ½ Stunden. Kosten € 3\,- \nWir treffen uns um 9:15 Uhr am Falkenberger Kreisel/Parkplatz oder um 9:30 Uhr in Frankenburg bei der Sporthalle \nAnmeldungen bis zum 06.07. bei Christa Mayer Tel. 0 42 98- 24 47 \n 
URL:https://www.landfrauen-stjuergen.de/event/09-07-24-besichtigung-aso-pennigbuettel/
LOCATION:ASO Pennigbüttel\, Siemensstraße 4B\, Osterholz- Scharmbeck\, 27711
END:VEVENT
END:VCALENDAR