BEGIN:VCALENDAR
VERSION:2.0
PRODID:-//Landfrauen St. Jürgen - ECPv6.0.5//NONSGML v1.0//EN
CALSCALE:GREGORIAN
METHOD:PUBLISH
X-ORIGINAL-URL:https://www.landfrauen-stjuergen.de
X-WR-CALDESC:Veranstaltungen für Landfrauen St. Jürgen
REFRESH-INTERVAL;VALUE=DURATION:PT1H
X-Robots-Tag:noindex
X-PUBLISHED-TTL:PT1H
BEGIN:VTIMEZONE
TZID:Europe/Berlin
BEGIN:DAYLIGHT
TZOFFSETFROM:+0100
TZOFFSETTO:+0200
TZNAME:CEST
DTSTART:20240331T010000
END:DAYLIGHT
BEGIN:STANDARD
TZOFFSETFROM:+0200
TZOFFSETTO:+0100
TZNAME:CET
DTSTART:20241027T010000
END:STANDARD
END:VTIMEZONE
BEGIN:VEVENT
DTSTART;TZID=Europe/Berlin:20240417T130000
DTEND;TZID=Europe/Berlin:20240417T180000
DTSTAMP:20260424T172651
CREATED:20240310T161823Z
LAST-MODIFIED:20240310T161823Z
UID:3752-1713358800-1713376800@www.landfrauen-stjuergen.de
SUMMARY:17.04.24 Fahrradtour "Worpsweder Mühle" und um zu
DESCRIPTION:Unsere Fahrradtour „Worpsweder Mühle“ und um zu startet um 13.00 Uhr bei „Beckers“\, Frankenburg auf dem Parkplatz. Die „Hammehüttentour“ hat eine Länge von ca. 30 km. Zuerst geht es Richtung Worpswede und in der „Worpsweder Mühle“ erwartet uns eine Führung. Im Anschluss geht es vorbei an weiteren Hammehütten und schließlich zurück ins St. Jürgensland. Unterwegs gibt es Kaffee\, Tee und Kuchen (auf eigene Rechnung) Kosten: eine kleine Spende für die Führung \nAnmeldungen bis zum 10.04. bei Gerda Köhler 0 42 92- 81 87 24 oder 0152- 25 74 75 09 auch per WA \nÜbrigens \, die Radfahrgruppe wünscht sich personelle Unterstützung. Das Abradeln und Planen von den Touren macht mit Mehreren einfach auch mehr Spaß.  Wer Lust hat zusammen mit Gerda und Hanna schöne Touren auszugucken… gerne melden! Eine einmalige Unterstützung\, weil man eine gute Idee für eine Tour hat\, ist natürlich auch denkbar. Oder erst mal zur Probe\, um den tatsächlichen Aufwand einschätzen zu können. Vieles ist denkbar. \n 
URL:https://www.landfrauen-stjuergen.de/event/17-04-24-fahrradtour-worpsweder-muehle-und-um-zu/
LOCATION:Beckers Parkplatz\, Frankenburg 27\, Lilienthal\, 28865
END:VEVENT
END:VCALENDAR