BEGIN:VCALENDAR
VERSION:2.0
PRODID:-//Landfrauen St. Jürgen - ECPv6.0.5//NONSGML v1.0//EN
CALSCALE:GREGORIAN
METHOD:PUBLISH
X-WR-CALNAME:Landfrauen St. Jürgen
X-ORIGINAL-URL:https://www.landfrauen-stjuergen.de
X-WR-CALDESC:Veranstaltungen für Landfrauen St. Jürgen
REFRESH-INTERVAL;VALUE=DURATION:PT1H
X-Robots-Tag:noindex
X-PUBLISHED-TTL:PT1H
BEGIN:VTIMEZONE
TZID:Europe/Berlin
BEGIN:DAYLIGHT
TZOFFSETFROM:+0100
TZOFFSETTO:+0200
TZNAME:CEST
DTSTART:20240331T010000
END:DAYLIGHT
BEGIN:STANDARD
TZOFFSETFROM:+0200
TZOFFSETTO:+0100
TZNAME:CET
DTSTART:20241027T010000
END:STANDARD
END:VTIMEZONE
BEGIN:VEVENT
DTSTART;TZID=Europe/Berlin:20240227T190000
DTEND;TZID=Europe/Berlin:20240227T220000
DTSTAMP:20260424T184047
CREATED:20240105T162801Z
LAST-MODIFIED:20240105T162801Z
UID:3719-1709060400-1709071200@www.landfrauen-stjuergen.de
SUMMARY:27.02.24   Spieleabend (Gesellschaftsspiele)
DESCRIPTION:Ende Februar treffen wir uns im Obergeschoß  der Turnhalle Frankenburg zu einem \ngeselligen Spieleabend. Ich habe mir Gesellschaftsspiele\, wie Rummy\, Uno oder Brettspiele vorgestellt. Kurzweilige Spiele\, die keiner langen Erklärung bedürfen. Aber jeder kann natürlich auch ein Spiel mitbringen\, vielleicht habt ihr noch andere Ideen. \nEs ist an eine Wiederholung oder auch eine ständige Einrichtung gedacht. \nKosten € 2\,- für Getränke  und kleine Knabbereien. \nAnmeldungen bis zum 23.02. bei Anke Kampe Tel. 0 42 98- 4 15 40 oder per Whats App \n 
URL:https://www.landfrauen-stjuergen.de/event/27-02-24-spieleabend-gesellschaftsspiele/
LOCATION:Sporthalle Frankenburg\, Frankenburg 70\, 28865 Lilienthal
END:VEVENT
END:VCALENDAR